BEGIN:VCALENDAR
VERSION:2.0
PRODID:-//ChamberMaster//Event Calendar 2.0//EN
METHOD:PUBLISH
X-PUBLISHED-TTL:P3D
REFRESH-INTERVAL:P3D
CALSCALE:GREGORIAN
BEGIN:VEVENT
DTSTART:20210808T150000Z
DTEND:20210808T230000Z
X-MICROSOFT-CDO-ALLDAYEVENT:FALSE
SUMMARY:Gresham Ford's Mixed Doubles Bocce Tournament
DESCRIPTION:Register to play in our annual "Mixed Doubles" Bocce tournament\, sponsored by Gresham Ford. Join us for this fun day of bocce\, to become our mixed doubles Champions! All skill levels are welcome. This tournament\, will be made up of teams with one male and one female. This day tournament will have a lunch included\, with your registration fee. Come on out for a great day of bocce!!
X-ALT-DESC;FMTTYPE=text/html:<span style="font-size:16px"><strong>Register to play in our annual &quot\;Mixed Doubles&quot\; Bocce tournament\, sponsored by Gresham Ford. Join us for this fun day of bocce\, to become our mixed doubles Champions! All skill levels are welcome. This tournament\, will be made up of teams with one male and one female. This day tournament will have a lunch included\, with your registration fee. Come on out for a great day of bocce!!</strong></span>
LOCATION:Cedarville Park/Club Paesano 3800 W. Powell Loop Gresham\, Oregon 97030
UID:e.1572.9794
SEQUENCE:3
DTSTAMP:20260425T214727Z
URL:https://business.greshamchamber.org/events/details/gresham-ford-s-mixed-doubles-bocce-tournament-9794
END:VEVENT

END:VCALENDAR
