BEGIN:VCALENDAR
VERSION:2.0
PRODID:-//ChamberMaster//Event Calendar 2.0//EN
METHOD:PUBLISH
X-PUBLISHED-TTL:P3D
REFRESH-INTERVAL:P3D
CALSCALE:GREGORIAN
BEGIN:VEVENT
DTSTART:20230802T130000Z
DTEND:20230803T050000Z
X-MICROSOFT-CDO-ALLDAYEVENT:FALSE
SUMMARY:Gresham Community Climb Day sponsored by Rock Haven and City of Gresham
DESCRIPTION:Get active and try something new and fun!\n\nFree Community Climb Day every First Wednesday of the month for all residents of Gresham\, hosted by Rock Haven Climbing in partnership with the City of Gresham.\n\nCome in and climb for free- day pass and shoe rental provided with this program (chalk and other accessories can be rented or purchased). Open to ages 3 and up. See the City of Gresham calendar and the Rock Haven website for more information-\n\n\n\nCity of Gresham https://greshamoregon.gov/Calendar/\n\n\n\nRock Haven Climbing www.rockhavenclimbing.com
X-ALT-DESC;FMTTYPE=text/html:<span style="font-size:22px">Get active and try something new and fun!<br />\nFree Community Climb Day every First Wednesday of the month for all residents of Gresham\, hosted by Rock Haven Climbing in partnership with the City of Gresham.<br />\nCome in and climb for free- day pass and shoe rental provided with this program (chalk and other accessories can be rented or purchased). Open to ages 3 and up. See the City of Gresham calendar and the Rock Haven website for more information-<br />\n<br />\nCity of Gresham&nbsp\;<a href="https://greshamoregon.gov/Calendar/">https://greshamoregon.gov/Calendar/</a><br />\n<br />\nRock Haven Climbing&nbsp\;<a href="http://rockhavenclimbing.com">www.rockhavenclimbing.com</a></span><br />\n&nbsp\;
LOCATION:Rock Haven Climbing 355 NE 223rd Ave Gresham\, OR 97030
UID:e.1572.12725
SEQUENCE:3
DTSTAMP:20260419T223808Z
URL:https://business.greshamchamber.org/events/details/gresham-community-climb-day-sponsored-by-rock-haven-and-city-of-gresham-08-02-2023-12725
END:VEVENT

END:VCALENDAR
