BEGIN:VCALENDAR
VERSION:2.0
PRODID:-//ChamberMaster//Event Calendar 2.0//EN
METHOD:PUBLISH
X-PUBLISHED-TTL:P3D
REFRESH-INTERVAL:P3D
CALSCALE:GREGORIAN
BEGIN:VEVENT
DTSTART:20210218T150000Z
DTEND:20210218T170000Z
X-MICROSOFT-CDO-ALLDAYEVENT:FALSE
SUMMARY:Grab-N-Go Breakfast Provided by Brookdale Mt. Hood Assisted Living
DESCRIPTION:Grab and Go Breakfast Drive Through to start your morning off right!
X-ALT-DESC;FMTTYPE=text/html:Grab and Go Breakfast Drive Through to start your morning off right!
LOCATION:25200 SE Stark ST Gresham\, OR 97030
UID:e.1572.9346
SEQUENCE:3
DTSTAMP:20260420T085030Z
URL:https://business.greshamchamber.org/events/details/grab-n-go-breakfast-provided-by-brookdale-mt-hood-assisted-living-9346
END:VEVENT

END:VCALENDAR
