BEGIN:VCALENDAR
VERSION:2.0
PRODID:-//ChamberMaster//Event Calendar 2.0//EN
METHOD:PUBLISH
X-PUBLISHED-TTL:P3D
REFRESH-INTERVAL:P3D
CALSCALE:GREGORIAN
BEGIN:VEVENT
DTSTART;VALUE=DATE:20220627
DTEND;VALUE=DATE:20220628
TRANSP:TRANSPARENT
X-MICROSOFT-CDO-ALLDAYEVENT:TRUE
SUMMARY:Golf Tournament
DESCRIPTION:Gresham Chamber Golf Tournament\n\n7:00am Driving Range Opens\n\n7:00am Registration Opens\n\n8:15am Golfers To Their Starting Hole\n\n8:30am Shotgun Start\n\nRegistration includes lunch\n\n\n\nAdditional Sponsors:\n\n\n\nBag Drop:\n\nMoen Machinery\n\nPacific Office Automation\n\n\n\nHole Sponsors:\n\nMetro East Web Academy\n\nNectar - Gresham\n\nThe Bold Orange\n\nWeston Buick Kia GMC (Hole In One)\n\nRivermark Community Credit Union\n\nClackamas County Bank\n\nKerr Properties\, Inc.\n\nBurns Feed Store\n\nAdventist Health Portland\n\nBBSI - Portland\n\nChocolat-e Inc.\n\nMigration Brewing\n\nROG3RS REALTY INC\n\nPrecision Body & Paint of Gresham Inc. (Men's KP)\n\nWarren Allen\, LLP (Men's Longest Drive)\n\nMt. Hood Community College (Women's KP)\n\n\n\n\n\nRaffle Prizes-\n\n	STIHL Garden Pruner Donated by Moen Machinery $190 Value\n	Dog Goodie Basket Donated by 4 Pets Enterprises LLC dba Pet Supplies Plus $100 Value\n	SMEG Espresso Machine Donated by Riegelmann's Appliance $530 Value\n	Beauty of Maine 5 Day\, 4 Night stay in Southwest Harbor. Three beds\, two bath home. Donated by Kenway Benefits Group $1\,300 Value\n	Half Day Guided Fishing Trip for Two Donated by All About Adventure Excursions\n	Aerus Pure & Clean Air Purifier and Surface Decontamination Portable Unit Donated By Everyday Air Systems $1\,999 Value\n\n\nMore raffle prizes coming soon. If you would like to wait until all raffle prizes have been donated to allocate your tickets please make note to yourself when purchasing and please set a reminder to contact us to allocate your tickets before 6/27/22. All unallocated tickets at the time of the drawing will be distributed among raffle prize baskets as evenly as possible.
X-ALT-DESC;FMTTYPE=text/html:<span style="font-size:22px\;"><strong>Gresham Chamber Golf Tournament</strong></span><br />\n<strong style="font-size: 22px\;">7:00am Driving Range Opens<br />\n7:00am Registration Opens<br />\n8:15am Golfers To Their Starting Hole<br />\n8:30am Shotgun Start</strong><br />\n<span style="font-size:22px\;"><strong>Registration includes lunch</strong><br />\n<br />\n<strong><span style="color:#006400\;"><u>Additional Sponsors:</u></span><br />\n<br />\n<span style="color:#0000CD\;"><u>Bag Drop:</u></span><br />\n<span style="color:#0000CD\;">Moen Machinery<br />\nPacific Office Automation</span></strong><br />\n<br />\n<span style="color:#800080\;"><strong><u>Hole Sponsors:</u><br />\nMetro East Web Academy</strong></span></span><br />\n<span style="color:#800080\;"><span style="font-size:22px\;"><strong>Nectar - Gresham<br />\nThe Bold Orange<br />\nWeston Buick Kia GMC </strong></span></span><span style="color:#FF8C00\;"><span style="font-size:22px\;"><strong><em>(Hole In One)</em></strong></span></span><br />\n<span style="color:#800080\;"><span style="font-size:22px\;"><strong>Rivermark Community Credit Union<br />\nClackamas County Bank<br />\nKerr Properties\, Inc.<br />\nBurns Feed Store<br />\nAdventist Health Portland<br />\nBBSI - Portland</strong></span><br />\n<strong><span style="font-size:22px\;">Chocolat-e Inc.<br />\nMigration Brewing<br />\nROG3RS REALTY INC<br />\nPrecision Body &amp\; Paint of Gresham Inc. </span></strong></span><span style="color:#FF8C00\;"><strong><span style="font-size:22px\;"><em>(Men&#39\;s KP)</em></span></strong></span><br />\n<span style="color:#800080\;"><strong><span style="font-size:22px\;">Warren Allen\, LLP</span></strong></span><span style="color:#FF8C00\;"><strong><span style="font-size:22px\;"><em> (Men&#39\;s Longest Drive)</em></span></strong></span><br />\n<span style="color:#800080\;"><strong><span style="font-size:22px\;">Mt. Hood Community College </span></strong></span><span style="color:#FF8C00\;"><em><strong><span style="font-size:22px\;">(Women&#39\;s KP)</span></strong></em></span><br />\n<br />\n<br />\n<span style="color: rgb(0\, 0\, 205)\;"><span style="font-size: 22px\;"><b>Raffle Prizes-</b></span></span>\n<ul>\n	<li class="_04xlpA direction-ltr align-center para-style-body" line-height:="" style="color: rgb(0\, 0\, 0)\;" yad7qhg2t6o=""><strong><span style="color: rgb(255\, 140\, 0)\;"><span style="font-size: 18px\;">STIHL Garden Pruner Donated by Moen Machinery $190 Value</span></span></strong></li>\n	<li class="_04xlpA direction-ltr align-center para-style-body" line-height:="" style="color: rgb(0\, 0\, 0)\;" yad7qhg2t6o=""><strong><span style="color: rgb(255\, 140\, 0)\;"><span style="font-size: 18px\;">Dog Goodie Basket Donated by 4 Pets Enterprises LLC dba Pet Supplies Plus $100 Value</span></span></strong></li>\n	<li class="_04xlpA direction-ltr align-center para-style-body" line-height:="" style="color: rgb(0\, 0\, 0)\;" yad7qhg2t6o=""><strong><span style="color: rgb(255\, 140\, 0)\;"><span style="font-size: 18px\;">SMEG Espresso Machine Donated by Riegelmann&#39\;s&nbsp\;Appliance $530 Value</span></span></strong></li>\n	<li class="_04xlpA direction-ltr align-center para-style-body" line-height:="" style="color: rgb(0\, 0\, 0)\;" yad7qhg2t6o=""><span style="color: rgb(255\, 140\, 0)\;"><strong><span style="font-size: 18px\;">Beauty of Maine 5 Day\, 4 Night stay in Southwest Harbor. Three beds\, two bath home. Donated by Kenway Benefits Group $1\,300 Value</span></strong></span></li>\n	<li class="_04xlpA direction-ltr align-center para-style-body" line-height:="" style="color: rgb(0\, 0\, 0)\;" yad7qhg2t6o=""><span style="color: rgb(255\, 140\, 0)\;"><strong><span style="font-size: 18px\;">Half Day Guided Fishing Trip for Two Donated by All About Adventure Excursions</span></strong></span></li>\n	<li class="_04xlpA direction-ltr align-center para-style-body" line-height:="" style="color: rgb(0\, 0\, 0)\;" yad7qhg2t6o=""><span style="color:#FF8C00\;"><strong><span style="font-size:18px\;">Aerus Pure &amp\; Clean Air Purifier and Surface Decontamination Portable Unit Donated By Everyday Air Systems $1\,999 Value</span></strong></span></li>\n</ul>\n\n<div class="_04xlpA direction-ltr align-center para-style-body" style="color: rgb(0\, 0\, 0)\;"><span style="color: rgb(128\, 0\, 128)\;"><strong><span style="font-size: 18px\;">More raffle prizes coming soon. If you would like to wait until all raffle prizes have been donated to allocate your tickets please make note to yourself when purchasing and please set a reminder to contact us to allocate your tickets before 6/27/22. All unallocated tickets at the time of the drawing will be&nbsp\;distributed among raffle prize baskets as evenly as possible.</span></strong></span></div>\n
LOCATION:Persimmon Country Club 500 SE Butler Road Gresham\, OR 97080
UID:e.1572.9889
SEQUENCE:3
DTSTAMP:20260424T024914Z
URL:https://business.greshamchamber.org/events/details/golf-tournament-9889
END:VEVENT

END:VCALENDAR
