BEGIN:VCALENDAR
VERSION:2.0
PRODID:-//ChamberMaster//Event Calendar 2.0//EN
METHOD:PUBLISH
X-PUBLISHED-TTL:P3D
REFRESH-INTERVAL:P3D
CALSCALE:GREGORIAN
BEGIN:VEVENT
DTSTART:20210917T142000Z
DTEND:20210917T153000Z
X-MICROSOFT-CDO-ALLDAYEVENT:FALSE
SUMMARY:Friday AM "Via Zoom"
DESCRIPTION:Hosted by Columbia Bank\nA great networking opportunity to meet Chamber members and prospective members.\n\nNew faces are always welcome!
X-ALT-DESC;FMTTYPE=text/html:<br />\n<span style="font-size:22px\;">Hosted by</span>&nbsp\;<strong><span style="color:#800080\;"><span style="font-family:arial\;"><span style="font-size:22px\;">Columbia Bank</span></span></span></strong>\n<p style="box-sizing: border-box\; margin: 0px 0px 1rem\; font-family: Raleway\, sans-serif\; font-size: 16px\; background-color: rgb(249\, 249\, 249)\;"><span style="font-size: 22px\;"><span style="font-family: arial\;"><span style="box-sizing: border-box\;">A great networking opportunity to meet&nbsp\;Chamber members and prospective members.</span></span></span></p>\n\n<p style="box-sizing: border-box\; margin: 0px 0px 1rem\; font-family: Raleway\, sans-serif\; font-size: 16px\; background-color: rgb(249\, 249\, 249)\;"><span style="font-size: 22px\;"><span style="font-family: arial\;"><span style="box-sizing: border-box\;">New faces are always welcome!</span></span></span></p>\n\n<div>&nbsp\;</div>\n\n<p style="box-sizing: border-box\; margin: 0px 0px 1rem\; font-family: Raleway\, sans-serif\; font-size: 16px\; background-color: rgb(249\, 249\, 249)\;">&nbsp\;</p>\n
LOCATION:Join Zoom Meeting https://us02web.zoom.us/j/82783268350 Meeting ID: 827 8326 8350 One tap mobile +16699006833\,\,82783268350# US (San Jose) 12532158782\,\,82783268350# US +(Tacoma) Dial by your location +1 669 900 6833 US (San Jose) +1 253 215 8782 US (Tacoma) +1 346 248 7799 US (Houston) +1 929 205 6099 US (New York) +1 301 715 8592 US (Washington DC) +1 312 626 6799 US (Chicago) Meeting ID: 827 8326 8350 Find your local number: https://us02web.zoom.us/u/kcngagOAg0
UID:e.1572.9315
SEQUENCE:3
DTSTAMP:20260425T235751Z
URL:https://business.greshamchamber.org/events/details/friday-am-via-zoom-09-17-2021-9315
END:VEVENT

END:VCALENDAR
