BEGIN:VCALENDAR
VERSION:2.0
PRODID:-//ChamberMaster//Event Calendar 2.0//EN
METHOD:PUBLISH
X-PUBLISHED-TTL:P3D
REFRESH-INTERVAL:P3D
CALSCALE:GREGORIAN
BEGIN:VEVENT
DTSTART:20260424T142000Z
DTEND:20260424T160000Z
X-MICROSOFT-CDO-ALLDAYEVENT:FALSE
SUMMARY:Friday AM Networking Meeting- Rockwood Market Hall
DESCRIPTION:Hosted by Rockwood Market Hall. These meetings are a great networking opportunity to meet Chamber members and prospective members. Guests and new faces are always welcome!
X-ALT-DESC;FMTTYPE=text/html:<span style="font-size: 24px\;">Hosted by</span><span style="font-size: 24px\; color: rgb(0\, 0\, 255)\;">&nbsp\;</span><span style="font-size: 24px\;"><font color="#0000cd"><b>Rockwood Market Hall</b></font></span><span style="font-size: 24px\;">. These meetings are a great networking opportunity to meet Chamber members and prospective members. Guests and new faces are always welcome!</span>
LOCATION:Rockwood Market Hall. 458 SE 185th Ave\, Portland\, OR 97233
UID:e.1572.14936
SEQUENCE:3
DTSTAMP:20260421T043238Z
URL:https://business.greshamchamber.org/events/details/friday-am-networking-meeting-rockwood-market-hall-04-24-2026-14936
END:VEVENT

END:VCALENDAR
