BEGIN:VCALENDAR
VERSION:2.0
PRODID:-//ChamberMaster//Event Calendar 2.0//EN
METHOD:PUBLISH
X-PUBLISHED-TTL:P3D
REFRESH-INTERVAL:P3D
CALSCALE:GREGORIAN
BEGIN:VEVENT
DTSTART:20260206T152000Z
DTEND:20260206T170000Z
X-MICROSOFT-CDO-ALLDAYEVENT:FALSE
SUMMARY:Friday AM Networking Meeting- Kenway Benefits Group
DESCRIPTION:Hosted by Kenway Benefits Group. These meetings are a great networking opportunity to meet Chamber members and prospective members. Guests and new faces are always welcome!
X-ALT-DESC;FMTTYPE=text/html:<span style="font-size:24px\;">Hosted by<span style="color:#0000FF\;"> <strong>Kenway Benefits Group</strong></span>. These meetings are a great networking opportunity to meet Chamber members and prospective members. Guests and new faces are always welcome!</span>
LOCATION:Snap Fitness 400 NW Eastman Pkwy\, Gresham\, OR 97030
UID:e.1572.14891
SEQUENCE:3
DTSTAMP:20260426T023636Z
URL:https://business.greshamchamber.org/events/details/friday-am-networking-meeting-kenway-benefits-group-14891
END:VEVENT

END:VCALENDAR
