BEGIN:VCALENDAR
VERSION:2.0
PRODID:-//ChamberMaster//Event Calendar 2.0//EN
METHOD:PUBLISH
X-PUBLISHED-TTL:P3D
REFRESH-INTERVAL:P3D
CALSCALE:GREGORIAN
BEGIN:VEVENT
DTSTART:20210723T142000Z
DTEND:20210723T160000Z
X-MICROSOFT-CDO-ALLDAYEVENT:FALSE
SUMMARY:Friday AM "In-person"
DESCRIPTION:Hosted by Club Paesano\n\nEvent will be held outside\, so please plan accordingly.\nA great networking opportunity to meet Chamber members and prospective members.\n\nNew faces are always welcome!\n\n \n\nWe will be meeting in-person but will be observing safety precautions of social distancing and face masks if the host requires. Please register to let us know if you are attending. Thank you!
X-ALT-DESC;FMTTYPE=text/html:<br />\n<span style="font-size:22px\;">Hosted by&nbsp\;<strong><span style="font-family:arial\;"><span style="color:#800080\;">Club Paesano</span><br />\n<span style="color:#FF0000\;">Event will be held outside\, so please plan accordingly.</span></span></strong></span>\n<p style="box-sizing: border-box\; margin: 0px 0px 1rem\; font-family: Raleway\, sans-serif\; font-size: 16px\; background-color: rgb(249\, 249\, 249)\;"><span style="font-size: 22px\;"><span style="font-family: arial\;"><span style="box-sizing: border-box\;">A great networking opportunity to meet&nbsp\;Chamber members and prospective members.</span></span></span></p>\n\n<p style="box-sizing: border-box\; margin: 0px 0px 1rem\; font-family: Raleway\, sans-serif\; font-size: 16px\; background-color: rgb(249\, 249\, 249)\;"><span style="font-size: 22px\;"><span style="font-family: arial\;"><span style="box-sizing: border-box\;">New faces are always welcome!</span></span></span></p>\n\n<div>&nbsp\;</div>\n\n<p style="box-sizing: border-box\; margin: 0px 0px 1rem\; font-family: Raleway\, sans-serif\; font-size: 16px\; background-color: rgb(249\, 249\, 249)\;"><em style="box-sizing: border-box\; font-weight: 700\;"><span style="box-sizing: border-box\; font-size: 20px\;"><span style="box-sizing: border-box\;"><span style="box-sizing: border-box\;"><span style="box-sizing: border-box\; font-family: arial\;">We will be meeting in-person&nbsp\;but will be observing safety precautions of social distancing&nbsp\;and face masks if the host requires.&nbsp\;</span></span></span><span style="box-sizing: border-box\;"><span style="box-sizing: border-box\;"><span style="box-sizing: border-box\; font-family: arial\;">Please register to let us know if you are attending. Thank you!</span></span><span style="box-sizing: border-box\; color: rgb(0\, 0\, 0)\;"><span style="box-sizing: border-box\; font-family: arial\;">&nbsp\;</span></span></span></span></em></p>\n\n<div>&nbsp\;</div>\n
LOCATION:Club Paesano 3800 W. Powell Loop Gresham\, OR 97030
UID:e.1572.9307
SEQUENCE:3
DTSTAMP:20260425T161108Z
URL:https://business.greshamchamber.org/events/details/friday-am-in-person-07-23-2021-9307
END:VEVENT

END:VCALENDAR
