BEGIN:VCALENDAR
VERSION:2.0
PRODID:-//ChamberMaster//Event Calendar 2.0//EN
METHOD:PUBLISH
X-PUBLISHED-TTL:P3D
REFRESH-INTERVAL:P3D
CALSCALE:GREGORIAN
BEGIN:VEVENT
DTSTART:20241115T152000Z
DTEND:20241115T170000Z
X-MICROSOFT-CDO-ALLDAYEVENT:FALSE
SUMMARY:Friday AM - Annual Membership Meeting
DESCRIPTION:Hosted by The Salvation Army Gresham Corps\, this Friday AM is also the GACC annual Membership Meeting. The agenda includes voting on new Chamber Board Members. Your vote counts! Please be sure to join us.
X-ALT-DESC;FMTTYPE=text/html:<span style="font-size:22px\;">Hosted by<span style="color:#800080\;"><strong> </strong></span><span style="color:#800080\;"><strong>The Salvation Army Gresham Corps\, </strong></span><strong>this Friday AM is also the GACC annual Membership Meeting</strong></span><span style="font-size:22px\;"><strong>. </strong>The agenda includes voting on new Chamber Board Members. Your vote counts! Please be sure to join us.&nbsp\;</span>
LOCATION:The Salvation Army Gresham Corps 473 SE 194th Avenue Portland OR 97233
UID:e.1572.13049
SEQUENCE:3
DTSTAMP:20260420T090439Z
URL:https://business.greshamchamber.org/events/details/friday-am-annual-membership-meeting-13049
END:VEVENT

END:VCALENDAR
