BEGIN:VCALENDAR
VERSION:2.0
PRODID:-//ChamberMaster//Event Calendar 2.0//EN
METHOD:PUBLISH
X-PUBLISHED-TTL:P3D
REFRESH-INTERVAL:P3D
CALSCALE:GREGORIAN
BEGIN:VEVENT
DTSTART:20241101T142000Z
DTEND:20241101T160000Z
X-MICROSOFT-CDO-ALLDAYEVENT:FALSE
SUMMARY:Friday AM
DESCRIPTION:Hosted by Gresham Ford.  A great networking opportunity to meet Chamber members and prospective members.\nNew faces are always welcome!
X-ALT-DESC;FMTTYPE=text/html:<span style="font-size:22px\;">Hosted by<span style="color:#800080\;"><strong> </strong></span><span style="color:#800080\;"><strong>Gresham Ford</strong></span></span><span style="font-size:22px\;"><span style="color:#800080\;"><strong>.&nbsp\;</strong></span></span><span style="color:#800080\;"><strong><span style="font-size:16px\;"><font face="arial">&nbsp\;</font></span></strong></span><span style="font-family: arial\; font-size: 22px\; background-color: rgb(249\, 249\, 249)\;">A great networking opportunity to meet&nbsp\;Chamber members and prospective members.</span>\n<p style="box-sizing: border-box\; margin: 0px 0px 1rem\; font-family: Raleway\, sans-serif\; font-size: 16px\; background-color: rgb(249\, 249\, 249)\;"><span style="font-size: 22px\;"><span style="font-family: arial\;"><span style="box-sizing: border-box\;">New faces are always welcome!</span></span></span></p>\n
LOCATION:Gresham Ford 1999 E Powell Blvd. Gresham OR 97080 **Please park at Mt. Hood Lanes. We will shuttle you via golf cart to the sales building.**
UID:e.1572.13048
SEQUENCE:3
DTSTAMP:20260420T103527Z
URL:https://business.greshamchamber.org/events/details/friday-am-13048
END:VEVENT

END:VCALENDAR
