BEGIN:VCALENDAR
VERSION:2.0
PRODID:-//ChamberMaster//Event Calendar 2.0//EN
METHOD:PUBLISH
X-PUBLISHED-TTL:P3D
REFRESH-INTERVAL:P3D
CALSCALE:GREGORIAN
BEGIN:VEVENT
DTSTART:20230804T142000Z
DTEND:20230804T160000Z
X-MICROSOFT-CDO-ALLDAYEVENT:FALSE
SUMMARY:Friday AM
DESCRIPTION:Hosted by State Farm - Rob Hendrickson Agency. A great networking opportunity to meet Chamber members and prospective members.\nNew faces are always welcome!
X-ALT-DESC;FMTTYPE=text/html:<span style="font-size: 22px\;">Hosted by&nbsp\;</span><strong><span style="color: rgb(128\, 0\, 128)\;"><span style="font-family: arial\;"><span style="font-size: 22px\;">State Farm - Rob Hendrickson Agency.&nbsp\;</span></span></span></strong><span style="font-family: arial\; font-size: 22px\; background-color: rgb(249\, 249\, 249)\;">A great networking opportunity to meet&nbsp\;Chamber members and prospective members.</span>\n<p style="box-sizing: border-box\; margin: 0px 0px 1rem\; font-family: Raleway\, sans-serif\; font-size: 16px\; background-color: rgb(249\, 249\, 249)\;"><span style="font-size: 22px\;"><span style="font-family: arial\;"><span style="box-sizing: border-box\;">New faces are always welcome!</span></span></span></p>\n
LOCATION:State Farm - Rob Hendrickson Agency 2951 NW Division St. (in the back parking lot) Gresham\, OR 97030
UID:e.1572.11085
SEQUENCE:3
DTSTAMP:20260419T155338Z
URL:https://business.greshamchamber.org/events/details/friday-am-11085
END:VEVENT

END:VCALENDAR
