BEGIN:VCALENDAR
VERSION:2.0
PRODID:-//ChamberMaster//Event Calendar 2.0//EN
METHOD:PUBLISH
X-PUBLISHED-TTL:P3D
REFRESH-INTERVAL:P3D
CALSCALE:GREGORIAN
BEGIN:VEVENT
DTSTART:20221007T142000Z
DTEND:20221007T160000Z
X-MICROSOFT-CDO-ALLDAYEVENT:FALSE
SUMMARY:Friday AM
DESCRIPTION:Hosted by Everyday Air Systems\n\nA great networking opportunity to meet Chamber members and prospective members.\n\nNew faces are always welcome!
X-ALT-DESC;FMTTYPE=text/html:<p><strong><span style="font-size: 16px\;">Hosted by</span></strong>&nbsp\;<span style="font-size:22px\;"><span style="color:#800080\;"><strong>Everyday Air Systems</strong></span></span></p>\n\n<p style="box-sizing: border-box\; margin: 0px 0px 1rem\; font-family: Raleway\, sans-serif\; font-size: 16px\; background-color: rgb(249\, 249\, 249)\;"><span style="font-size: 22px\;"><span style="font-family: arial\;"><span style="box-sizing: border-box\;">A great networking opportunity to meet&nbsp\;Chamber members and prospective members.</span></span></span></p>\n\n<p style="box-sizing: border-box\; margin: 0px 0px 1rem\; font-family: Raleway\, sans-serif\; font-size: 16px\; background-color: rgb(249\, 249\, 249)\;"><span style="font-size: 22px\;"><span style="font-family: arial\;"><span style="box-sizing: border-box\;">New faces are always welcome!</span></span></span></p>\n\n<div>&nbsp\;</div>\n\n<p style="box-sizing: border-box\; margin: 0px 0px 1rem\; font-family: Raleway\, sans-serif\; font-size: 16px\; background-color: rgb(249\, 249\, 249)\;">&nbsp\;</p>\n\n<p style="box-sizing: border-box\; margin: 0px 0px 1rem\; font-family: Raleway\, sans-serif\; font-size: 16px\; background-color: rgb(249\, 249\, 249)\;">&nbsp\;</p>\n
LOCATION:The SDF Collective 20 NW 3rd St. Gresham\, OR 97030
UID:e.1572.10299
SEQUENCE:3
DTSTAMP:20260424T023218Z
URL:https://business.greshamchamber.org/events/details/friday-am-10299
END:VEVENT

END:VCALENDAR
