BEGIN:VCALENDAR
VERSION:2.0
PRODID:-//ChamberMaster//Event Calendar 2.0//EN
METHOD:PUBLISH
X-PUBLISHED-TTL:P3D
REFRESH-INTERVAL:P3D
CALSCALE:GREGORIAN
BEGIN:VEVENT
DTSTART:20221021T142000Z
DTEND:20221021T160000Z
X-MICROSOFT-CDO-ALLDAYEVENT:FALSE
SUMMARY:Friday AM
DESCRIPTION:Hosted by The Rotary Club of Gresham\nA great networking opportunity to meet Chamber members and prospective members.\n\nNew faces are always welcome!
X-ALT-DESC;FMTTYPE=text/html:<span style="font-size:22px\;">Hosted by <font color="#800080" face="arial"><b>The Rotary Club of Gresham</b></font></span>\n<p style="box-sizing: border-box\; margin: 0px 0px 1rem\; font-family: Raleway\, sans-serif\; font-size: 16px\; background-color: rgb(249\, 249\, 249)\;"><span style="font-size: 22px\;"><span style="font-family: arial\;"><span style="box-sizing: border-box\;">A great networking opportunity to meet&nbsp\;Chamber members and prospective members.</span></span></span></p>\n\n<p style="box-sizing: border-box\; margin: 0px 0px 1rem\; font-family: Raleway\, sans-serif\; font-size: 16px\; background-color: rgb(249\, 249\, 249)\;"><span style="font-size: 22px\;"><span style="font-family: arial\;"><span style="box-sizing: border-box\;">New faces are always welcome!</span></span></span></p>\n\n<div>&nbsp\;</div>\n\n<p style="box-sizing: border-box\; margin: 0px 0px 1rem\; font-family: Raleway\, sans-serif\; font-size: 16px\; background-color: rgb(249\, 249\, 249)\;">&nbsp\;</p>\n
LOCATION:Gateway Gresham Elks Lodge #1805 3330 NE Division Street Gresham\, OR 97030
UID:e.1572.10968
SEQUENCE:3
DTSTAMP:20260424T021016Z
URL:https://business.greshamchamber.org/events/details/friday-am-10-21-2022-10968
END:VEVENT

END:VCALENDAR
