BEGIN:VCALENDAR
VERSION:2.0
PRODID:-//ChamberMaster//Event Calendar 2.0//EN
METHOD:PUBLISH
X-PUBLISHED-TTL:P3D
REFRESH-INTERVAL:P3D
CALSCALE:GREGORIAN
BEGIN:VEVENT
DTSTART:20221109T233000Z
DTEND:20221110T023000Z
X-MICROSOFT-CDO-ALLDAYEVENT:FALSE
SUMMARY:Fall Chamber Expo
DESCRIPTION:Fall Chamber Expo \n\n\n\nFeaturing over 40 members\n\nConnecting business and people\n\nBring friends\, family\, and business peers\n\n\n\nIf you are interested in having a table to participate\, please reach out to the Chamber to register.  Attendance is free to come make connections and learn more about our newest members!
X-ALT-DESC;FMTTYPE=text/html:<span style="font-size: 24px\;"><span style="font-family: arial\;"><span style="color: rgb(75\, 0\, 130)\;"><strong>Fall Chamber Expo</strong></span><span style="color: rgb(178\, 34\, 34)\;"><strong>&nbsp\;</strong></span></span></span><br />\n<br />\n<span style="font-size: 20px\;"><span style="font-family: arial\;">Featuring over 40 members<br />\nConnecting business and people<br />\nBring friends\, family\, and business peers</span></span><br />\n<br />\n<strong><span style="color:#333333\;"><span style="font-family:arial\,sans-serif\;"><span style="font-size:16.5pt\;">If you are interested in having a table to participate\, please reach out to the Chamber to register.&nbsp\; Attendance is free to come make connections and learn more about our newest members!</span></span></span></strong><br style="font-variant-ligatures:normal\;font-variant-caps:normal\;orphans:2\;text-align:start\;widows:2\;-webkit-text-stroke-width:0px\;text-decoration-thickness:initial\;text-decoration-style:initial\;word-spacing:0px\;" />\n<br />\n<br />\n&nbsp\;
LOCATION:Gateway Gresham Elks Lodge #1805 3330 NE Division Street Gresham\, OR 97030
UID:e.1572.10925
SEQUENCE:3
DTSTAMP:20260423T030759Z
URL:https://business.greshamchamber.org/events/details/fall-chamber-expo-11-09-2022-10925
END:VEVENT

END:VCALENDAR
