BEGIN:VCALENDAR
VERSION:2.0
PRODID:-//ChamberMaster//Event Calendar 2.0//EN
METHOD:PUBLISH
X-PUBLISHED-TTL:P3D
REFRESH-INTERVAL:P3D
CALSCALE:GREGORIAN
BEGIN:VEVENT
DTSTART:20230819T190000Z
DTEND:20230819T220000Z
X-MICROSOFT-CDO-ALLDAYEVENT:FALSE
SUMMARY:ECHO Historical Homes Tour
DESCRIPTION:Zimmerman House    \n\nComplete tour of the home with artifacts.
X-ALT-DESC;FMTTYPE=text/html:<span style="font-size:22px\;"><strong>Zimmerman House&nbsp\;&nbsp\;&nbsp\;&nbsp\;<br />\nComplete tour of the home with artifacts.</strong></span>
LOCATION:17111 NE Sandy Blvd. Gresham\, OR
UID:e.1572.12285
SEQUENCE:3
DTSTAMP:20260420T040920Z
URL:https://business.greshamchamber.org/events/details/echo-historical-homes-tour-08-19-2023-12285
END:VEVENT

END:VCALENDAR
