BEGIN:VCALENDAR
VERSION:2.0
PRODID:-//ChamberMaster//Event Calendar 2.0//EN
METHOD:PUBLISH
X-PUBLISHED-TTL:P3D
REFRESH-INTERVAL:P3D
CALSCALE:GREGORIAN
BEGIN:VEVENT
DTSTART:20230617T190000Z
DTEND:20230617T220000Z
X-MICROSOFT-CDO-ALLDAYEVENT:FALSE
SUMMARY:ECHO Historical Home Tour
DESCRIPTION:Heslin House
X-ALT-DESC;FMTTYPE=text/html:<span style="font-size:22px\;"><strong>Heslin House</strong></span>
LOCATION:60 Main Street Fairview\, OR
UID:e.1572.12152
SEQUENCE:3
DTSTAMP:20260420T112019Z
URL:https://business.greshamchamber.org/events/details/echo-historical-home-tour-06-17-2023-12152
END:VEVENT

END:VCALENDAR
