BEGIN:VCALENDAR
VERSION:2.0
PRODID:-//ChamberMaster//Event Calendar 2.0//EN
METHOD:PUBLISH
X-PUBLISHED-TTL:P3D
REFRESH-INTERVAL:P3D
CALSCALE:GREGORIAN
BEGIN:VEVENT
DTSTART:20221022T170000Z
DTEND:20221024T000000Z
X-MICROSOFT-CDO-ALLDAYEVENT:FALSE
SUMMARY:Creator's Set Challenge
DESCRIPTION:The SDF Collective Set Challenge is Here!\n\nWe provide the set  |  You bring the creativity!\n\nWhat could you do with a Professionally Built Set??\n\nEach participating group is allowed 1 hr to capture ANYTHING they want.\n\nEdit\, Post it Online\, Tag the SDF Collective with the Hashtag #SetChallenge\n\n \n\nTOP 3 Images\n\nwill WIN 2 FREE TICKETS and 2 DRINK VOUCHERS to the \n\nANNUAL CREATOR'S HALLOWEEN EVENT!\n\nSIGN ME UP!\n\n\n\n_________   Rules are Simple   _________\n\nYou can have as much prep time as you need (think cool makeup/ costumes etc)\n\nEvery participating group gets ONE HR on set\n\nParticipants MAY USE SDF Collective Equipment (Camera's\, Lights etc) *SD Cards Not provided\n\nParticipants Post the images  Tag @TheSDFCollective and use the hashtag #SetChallenge\n\n* Participants may NOT alter\, damage or remove the set *\n\n\n\nUSE this to be as creative as you can! Here's some Ideas to get you started\; \n\nProduct Images for your Business\n\nGroup Photo of your Co-Workers!\n\nFamily Portrait\n\nCosplay Imagery\n\nStylized Fantasy Imagery\n\n\n\nSDF COLLECTIVE.COM\n\nSIGN ME UP!
X-ALT-DESC;FMTTYPE=text/html:<h2 style="text-align: center\;"><strong><u>The SDF Collective Set Challenge is Here!</u></strong><br />\n<span style="font-size:13px">We provide the set &nbsp\;| &nbsp\;</span><span style="font-size:13px">You bring the creativity!</span></h2>\n\n<p style="text-align: center\;"><span style="font-size:14px"><strong>What could you do with a Professionally Built Set??</strong></span><br />\nEach participating group is allowed 1 hr to capture ANYTHING they want.<br />\nEdit\, Post it Online\, Tag the SDF Collective with the Hashtag #SetChallenge<br />\n&nbsp\;</p>\n\n<h2 style="text-align: center\;"><strong>TOP 3 Images</strong><br />\n<span style="font-size:14px">will&nbsp\;</span><strong>WIN 2 FREE TICKETS and 2 DRINK VOUCHERS</strong>&nbsp\;<span style="font-size:14px">to</span><span style="font-size:16px">&nbsp\;<span style="font-size:14px">the</span>&nbsp\;</span><br />\n<u>ANNUAL CREATOR&#39\;S HALLOWEEN EVENT!</u></h2>\n\n<p style="text-align: center\;"><strong><a href="https://www.sdfcollective.com/challenges">SIGN ME UP!</a><br />\n<br />\n_________ &nbsp\;&nbsp\;Rules are Simple &nbsp\; _________<br />\nYou can have as much prep time as you need (think cool makeup/ costumes etc)<br />\nEvery participating group gets ONE HR on set<br />\nParticipants MAY USE SDF Collective Equipment (Camera&#39\;s\, Lights etc) *SD Cards Not provided<br />\nParticipants Post the images&gt\; Tag @TheSDFCollective and use the hashtag #SetChallenge<br />\n* Participants may NOT alter\, damage or remove the set *</strong><br />\n<br />\n<u>USE this to be as creative as you can!&nbsp\;Here&#39\;s some Ideas to get you started\; </u><br />\n<strong>Product Images for your Business<br />\nGroup Photo of your Co-Workers!<br />\nFamily Portrait<br />\nCosplay Imagery<br />\nStylized&nbsp\;Fantasy Imagery</strong><br />\n<br />\n<a href="https://www.sdfcollective.com">SDF COLLECTIVE.COM</a><br />\n<strong><a href="https://www.sdfcollective.com/challenges">SIGN ME UP!</a></strong></p>\n
LOCATION:20 NW 3RD ST GRESHAM OR 97030
UID:e.1572.11053
SEQUENCE:3
DTSTAMP:20260423T092748Z
URL:https://business.greshamchamber.org/events/details/creator-s-set-challenge-11053
END:VEVENT

END:VCALENDAR
