BEGIN:VCALENDAR
VERSION:2.0
PRODID:-//ChamberMaster//Event Calendar 2.0//EN
METHOD:PUBLISH
X-PUBLISHED-TTL:P3D
REFRESH-INTERVAL:P3D
CALSCALE:GREGORIAN
BEGIN:VEVENT
DTSTART;VALUE=DATE:20241128
DTEND;VALUE=DATE:20241130
TRANSP:TRANSPARENT
X-MICROSOFT-CDO-ALLDAYEVENT:TRUE
SUMMARY:Chamber Office Closed - Thanksgiving Holiday
DESCRIPTION:Chamber offices will be closed Thursday and Friday for the Thanksgiving Holiday. We wish you a wonderful time with your loved ones! And be sure to Shop Local!
X-ALT-DESC;FMTTYPE=text/html:Chamber offices will be closed Thursday and Friday for the Thanksgiving Holiday. We wish you a wonderful time with your loved ones! <span style="color:#FF0000\;"><strong>And be sure to Shop Local!</strong></span>
LOCATION:
UID:e.1572.13946
SEQUENCE:3
DTSTAMP:20260420T103907Z
URL:https://business.greshamchamber.org/events/details/chamber-office-closed-thanksgiving-holiday-13946
END:VEVENT

END:VCALENDAR
