BEGIN:VCALENDAR
VERSION:2.0
PRODID:-//ChamberMaster//Event Calendar 2.0//EN
METHOD:PUBLISH
X-PUBLISHED-TTL:P3D
REFRESH-INTERVAL:P3D
CALSCALE:GREGORIAN
BEGIN:VEVENT
DTSTART;VALUE=DATE:20221226
DTEND;VALUE=DATE:20221227
TRANSP:TRANSPARENT
X-MICROSOFT-CDO-ALLDAYEVENT:TRUE
SUMMARY:Chamber Office Closed
DESCRIPTION:The Chamber office will be closed in observance of the Christmas holiday. We wish you and your family a wonderful holiday season!
X-ALT-DESC;FMTTYPE=text/html:<strong><span style="font-size: 22px\;">The Chamber office will be closed in observance of the Christmas holiday. We wish you and your family a wonderful holiday season!&nbsp\;</span></strong>
LOCATION:
UID:e.1572.11058
SEQUENCE:3
DTSTAMP:20260422T000658Z
URL:https://business.greshamchamber.org/events/details/chamber-office-closed-11058
END:VEVENT

END:VCALENDAR
