BEGIN:VCALENDAR
VERSION:2.0
PRODID:-//ChamberMaster//Event Calendar 2.0//EN
METHOD:PUBLISH
X-PUBLISHED-TTL:P3D
REFRESH-INTERVAL:P3D
CALSCALE:GREGORIAN
BEGIN:VEVENT
DTSTART;VALUE=DATE:20221111
DTEND;VALUE=DATE:20221112
TRANSP:TRANSPARENT
X-MICROSOFT-CDO-ALLDAYEVENT:TRUE
SUMMARY:Chamber Office Closed
DESCRIPTION:The Chamber office will be closed in observance of the Veteran's Day holiday. We thank our Veteran's for their service to our great country!
X-ALT-DESC;FMTTYPE=text/html:<strong><span style="font-size:22px\;">The Chamber office will be closed in observance of the Veteran&#39\;s Day holiday. We thank our Veteran&#39\;s for their service to our great country!&nbsp\;</span></strong>
LOCATION:
UID:e.1572.11010
SEQUENCE:3
DTSTAMP:20260422T204753Z
URL:https://business.greshamchamber.org/events/details/chamber-office-closed-11010
END:VEVENT

END:VCALENDAR
