BEGIN:VCALENDAR
VERSION:2.0
PRODID:-//ChamberMaster//Event Calendar 2.0//EN
METHOD:PUBLISH
X-PUBLISHED-TTL:P3D
REFRESH-INTERVAL:P3D
CALSCALE:GREGORIAN
BEGIN:VEVENT
DTSTART:20210922T183000Z
DTEND:20210922T193000Z
X-MICROSOFT-CDO-ALLDAYEVENT:FALSE
SUMMARY:Chamber 101 on Zoom
DESCRIPTION:Chamber 101 is a popular Chamber event. \n\n\n\nWho should attend? YOU\, if you are a new member\, aspiring member\, existing member in leadership\, or a newer employee of an existing member. This upbeat and interactive orientation is designed to help new\, current and prospective members learn how the Chamber supports our business community and how to utilize membership for maximum effectiveness.\n\n \n\nThe value of the Chamber is different for each of our members. Learn how to get the most for your company.\n\n\n\nHow can Chamber membership make it to your bottom line?  \n\n      Marketing and exposure available through Chamber membership\n\n      Maximize opportunities available within the Chamber\n\n      Publications and networking tools\n\n      Community involvement\n\n\n\nJoin us for an introductory session full of creative and practical ways to get plugged into the Chamber. Feel free to bring along your lunch while you learn more about this great Chamber!
X-ALT-DESC;FMTTYPE=text/html:<br />\n<span style="font-family:arial\;"><strong><span style="background:#F9F9F9\;"><span style="font-size:13.5pt\;">Chamber 101&nbsp\;</span></span><span style="border: 1pt none windowtext\; padding: 0in\; background: rgb(249\, 249\, 249)\;"><span style="font-size: 12pt\;">is a popular Chamber event.&nbsp\;</span></span></strong><br />\n<br />\n<strong><span style="border: 1pt none windowtext\; padding: 0in\; background: rgb(249\, 249\, 249)\;"><span style="font-size: 12pt\;">Who should attend? YOU\, if you are a new member\, aspiring member\, existing member in leadership\, or a newer employee of an existing member. This upbeat and interactive orientation is designed to help new\, current and prospective members learn how the Chamber supports our business community and how to utilize membership for maximum effectiveness.</span></span></strong><br />\n&nbsp\;<br />\n<strong><span style="border: 1pt none windowtext\; padding: 0in\; background: rgb(249\, 249\, 249)\;"><span style="font-size: 12pt\;">The value of the Chamber is different for each of our members. Learn how to get the most for&nbsp\;<u>your</u>&nbsp\;company.</span></span></strong><br />\n<br />\n<strong><span style="border: 1pt none windowtext\; padding: 0in\; background: rgb(249\, 249\, 249)\;"><span style="font-size: 12pt\;">How can Chamber membership make it to your bottom line?&nbsp\;&nbsp\;</span></span></strong><br />\n<strong><span style="background: rgb(249\, 249\, 249)\;"><span style="font-size: 12pt\;">&middot\;&nbsp\;</span></span></strong>&nbsp\;&nbsp\;&nbsp\;&nbsp\;<strong><span style="border: 1pt none windowtext\; padding: 0in\; background: rgb(249\, 249\, 249)\;"><span style="font-size: 12pt\;">Marketing and exposure available through Chamber membership</span></span></strong><br />\n<strong><span style="background: rgb(249\, 249\, 249)\;"><span style="font-size: 12pt\;">&middot\;&nbsp\;</span></span></strong>&nbsp\;&nbsp\;&nbsp\;&nbsp\;<strong><span style="border: 1pt none windowtext\; padding: 0in\; background: rgb(249\, 249\, 249)\;"><span style="font-size: 12pt\;">Maximize opportunities available&nbsp\;within the Chamber</span></span></strong><br />\n<strong><span style="background: rgb(249\, 249\, 249)\;"><span style="font-size: 12pt\;">&middot\;&nbsp\;</span></span></strong>&nbsp\;&nbsp\;&nbsp\;&nbsp\;<strong><span style="border: 1pt none windowtext\; padding: 0in\; background: rgb(249\, 249\, 249)\;"><span style="font-size: 12pt\;">Publications and networking tools</span></span></strong><br />\n<strong><span style="background: rgb(249\, 249\, 249)\;"><span style="font-size: 12pt\;">&middot\;&nbsp\;</span></span></strong>&nbsp\;&nbsp\;&nbsp\;&nbsp\;<strong><span style="border: 1pt none windowtext\; padding: 0in\; background: rgb(249\, 249\, 249)\;"><span style="font-size: 12pt\;">Community involvement</span></span></strong><br />\n<br />\n<strong><span style="background: rgb(249\, 249\, 249)\;"><span style="font-size: 12pt\;">Join us for an introductory session full of creative and practical ways to get plugged into the Chamber. Feel free to bring along your lunch while you learn more about this great Chamber!&nbsp\;</span></span></strong></span><br />\n<br />\n&nbsp\;
LOCATION:Join Zoom Meeting https://us02web.zoom.us/j/82181921877?pwd=THZWU0NUWkZmSjBJL2huWHd5SkF0dz09 Meeting ID: 821 8192 1877 Passcode: 883255 One tap mobile +12532158782\,\,82181921877#\,\,\,\,*883255# US (Tacoma) +13462487799\,\,82181921877#\,\,\,\,*883255# US (Houston) Dial by your location +1 253 215 8782 US (Tacoma) +1 346 248 7799 US (Houston) +1 669 900 6833 US (San Jose) +1 301 715 8592 US (Washington DC) +1 312 626 6799 US (Chicago) +1 929 205 6099 US (New York) Meeting ID: 821 8192 1877 Passcode: 883255 Find your local number: https://us02web.zoom.us/u/ke9ncNANi
UID:e.1572.9487
SEQUENCE:3
DTSTAMP:20260425T235435Z
URL:https://business.greshamchamber.org/events/details/chamber-101-on-zoom-9487
END:VEVENT

END:VCALENDAR
