BEGIN:VCALENDAR
VERSION:2.0
PRODID:-//ChamberMaster//Event Calendar 2.0//EN
METHOD:PUBLISH
X-PUBLISHED-TTL:P3D
REFRESH-INTERVAL:P3D
CALSCALE:GREGORIAN
BEGIN:VEVENT
DTSTART:20260519T183000Z
DTEND:20260519T200000Z
X-MICROSOFT-CDO-ALLDAYEVENT:FALSE
SUMMARY:CANCELED-Business and Leaders Luncheon 2026 -
DESCRIPTION:The Chamber's mission is to Advocate\, Educate\, and Collaborate with our local organizations for the vitality and prosperity of the region. Our Business and Leaders Luncheons are among the ways we fulfill that mission\, and we invite you to join us for the monthly opportunity to network\, learn\, and grow over a delicious\, locally prepared lunch.
X-ALT-DESC;FMTTYPE=text/html:<p><span style="font-family:arial\;"><span style="font-size: 16px\; background-color: rgb(249\, 249\, 249)\;">The Chamber&#39\;s mission is to Advocate\, Educate\, and Collaborate with our local organizations for the vitality and prosperity of the region. Our Business and Leaders Luncheons are among the ways we fulfill that mission\, and we invite you to join us for the monthly opportunity to network\, learn\, and grow over a delicious\, locally prepared lunch.</span></span><br style="box-sizing: border-box\; font-family: Raleway\, sans-serif\; font-size: 16px\; background-color: rgb(249\, 249\, 249)\;" />\n<br style="box-sizing: border-box\; font-family: Raleway\, sans-serif\; font-size: 16px\; background-color: rgb(249\, 249\, 249)\;" />\n<br />\n<span style="font-size:16px\;"><span style="font-family: Raleway\, sans-serif\; background-color: rgb(249\, 249\, 249)\;">&nbsp\;</span></span></p>\n
LOCATION:
UID:e.1572.14878
SEQUENCE:3
DTSTAMP:20260421T195355Z
URL:https://business.greshamchamber.org/events/details/canceled-business-and-leaders-luncheon-2026-14878
END:VEVENT

END:VCALENDAR
