BEGIN:VCALENDAR
VERSION:2.0
PRODID:-//ChamberMaster//Event Calendar 2.0//EN
METHOD:PUBLISH
X-PUBLISHED-TTL:P3D
REFRESH-INTERVAL:P3D
CALSCALE:GREGORIAN
BEGIN:VEVENT
DTSTART:20210726T180000Z
DTEND:20210726T210000Z
X-MICROSOFT-CDO-ALLDAYEVENT:FALSE
SUMMARY:Business Owner Basics: Accounting & QuickBooks Online Workshop
DESCRIPTION:Presented by NW Accounting Partners\n\n\n\n**LIMITED TO 15 REGISTRANTS (pre-registration required)\n\n\n\n**Lunch provided\n\n\n\nWorkshop Agenda:\n\n\n\n11:00-11:10 Arrival/Meet & Greet\n\n\n\n11:10-11:55 Accounting Basics: Profit &\n\nLoss and Balance Sheet review\;\n\nunderstanding categorizations\n\n\n\n11:55-12:15 Lunch\n\n\n\n12:15-1:00 QBO Basics: Virtual Test\n\nDrive through company file reviewing\n\nsome account setup\, bank feed\n\ncategorization\, invoicing\, etc.\n\n\n\n1:00-1:10 Break\n\n\n\n1:10-1:55 Review Attendee Specific\n\nQuestions\n\n\n\n1:55-2:00 Wrap-up and Prize Drawing\n\n\n\nTo register (pre-registration required):\n\nEmail amanda@nwaccountingpartners.com with 3 questions you\n\nwould like to have answered during the workshop. You will be emailed\n\nan invoice. Registration is confirmed after payment has been received.\n\nWith a maximum of 15 attendees\, there will be an opportunity to get\n\nyour specific questions answered.
X-ALT-DESC;FMTTYPE=text/html:<strong><span style="font-size:20px\;">Presented by NW Accounting Partners</span></strong><br />\n<br />\n**LIMITED TO 15 REGISTRANTS&nbsp\;<span style="box-sizing: border-box\; font-weight: bolder\; font-family: Raleway\, sans-serif\; font-size: 16px\; background-color: rgb(249\, 249\, 249)\;"><u style="box-sizing: border-box\;">(</u><u style="box-sizing: border-box\;">pre-registration required)</u></span><br />\n<br />\n**Lunch provided<br />\n<br />\n<u>Workshop Agenda:</u><br />\n<br />\n11:00-11:10 Arrival/Meet &amp\; Greet<br />\n<br />\n11:10-11:55 Accounting Basics: Profit &amp\;<br />\nLoss and Balance Sheet review\;<br />\nunderstanding categorizations<br />\n<br />\n11:55-12:15 Lunch<br />\n<br />\n12:15-1:00 QBO Basics: Virtual Test<br />\nDrive through company file reviewing<br />\nsome account setup\, bank feed<br />\ncategorization\, invoicing\, etc.<br />\n<br />\n1:00-1:10 Break<br />\n<br />\n1:10-1:55 Review Attendee Specific<br />\nQuestions<br />\n<br />\n1:55-2:00 Wrap-up and Prize Drawing<br />\n<br />\n<strong><u>To register (pre-registration required):</u></strong><br />\nEmail amanda@nwaccountingpartners.com with 3 questions you<br />\nwould like to have answered during the workshop. You will be emailed<br />\nan invoice. Registration is confirmed after payment has been received.<br />\nWith a maximum of 15 attendees\, there will be an opportunity to get<br />\nyour specific questions answered.
LOCATION:Clackamas County Bank - Gresham 1101 NE Burnside Street Gresham\, OR 97030
UID:e.1572.9789
SEQUENCE:3
DTSTAMP:20260425T195727Z
URL:https://business.greshamchamber.org/events/details/business-owner-basics-accounting-quickbooks-online-workshop-9789
END:VEVENT

END:VCALENDAR
