BEGIN:VCALENDAR
VERSION:2.0
PRODID:-//ChamberMaster//Event Calendar 2.0//EN
METHOD:PUBLISH
X-PUBLISHED-TTL:P3D
REFRESH-INTERVAL:P3D
CALSCALE:GREGORIAN
BEGIN:VEVENT
DTSTART:20221115T193000Z
DTEND:20221115T210000Z
X-MICROSOFT-CDO-ALLDAYEVENT:FALSE
SUMMARY:Business & Leaders Luncheon- Postponed
DESCRIPTION:Postponed - See you in December
X-ALT-DESC;FMTTYPE=text/html:<font face="arial"><span style="font-size: 24px\;">Postponed - See you in December</span></font><br>\n<br>\n&nbsp\;
LOCATION:Persimmon Country Club 500 SE Butler Road Gresham\, OR 97080
UID:e.1572.9977
SEQUENCE:3
DTSTAMP:20260423T030811Z
URL:https://business.greshamchamber.org/events/details/business-leaders-luncheon-postponed-9977
END:VEVENT

END:VCALENDAR
