BEGIN:VCALENDAR
VERSION:2.0
PRODID:-//ChamberMaster//Event Calendar 2.0//EN
METHOD:PUBLISH
X-PUBLISHED-TTL:P3D
REFRESH-INTERVAL:P3D
CALSCALE:GREGORIAN
BEGIN:VEVENT
DTSTART:20221018T183000Z
DTEND:20221018T200000Z
X-MICROSOFT-CDO-ALLDAYEVENT:FALSE
SUMMARY:Business & Leaders Luncheon
DESCRIPTION:Topic:  Labor Commissioner Candidate Forum\n\n\n\nBureau of Labor and Industries (BOLI)\n\n      2022 Election of new Labor Commissioner\n\nCandidate forum featuring:  Cheri Helt and (Christina Stephenson cancelled 10/5)\n\n\n\nSecond most important statewide office holder for business!\n\n\n\nWhat does BOLI do? Why should you care?\n\n	BOLI encourages and enforces compliance of state law related to wages\, hours and conditions of employment\n	BOLI provides expert guidance and support to businesses\n	BOLI protects workers' rights\n\n\n\nIf you own or work for a business you will want to hear from the candidate.\n\n\n\n\n\n\n\nPlease register in advance to attend and reserve your seat. Lunch is $22 for members\, $30 for non-members\, or beverage only is $5 for members and $8 for non-members.
X-ALT-DESC;FMTTYPE=text/html:<span style="font-size:22px\;"><span style="font-family:arial\;">Topic:&nbsp\; Labor Commissioner Candidate Forum<br />\n<br />\nBureau of Labor and Industries (BOLI)<br />\n&nbsp\;&nbsp\;&nbsp\;&nbsp\;&nbsp\; <strong>2022 Election of new Labor Commissioner</strong><br />\nCandidate forum featuring:&nbsp\; <span style="color:#0000CD\;"><strong>Cheri Helt and (Christina Stephenson cancelled 10/5)</strong></span><br />\n<br />\n<strong><span style="font-size:26px\;"><span style="color:#FF8C00\;">Second most important statewide office holder for business!</span></span></strong><br />\n<br />\n<strong>What does BOLI do?&nbsp\;Why should you care?</strong></span></span>\n<ul>\n	<li><span style="font-size:22px\;"><span style="font-family:arial\;">BOLI encourages and enforces compliance of state law related to wages\, hours and conditions of employment</span></span></li>\n	<li><span style="font-size:22px\;"><span style="font-family:arial\;">BOLI provides expert guidance and support to businesses</span></span></li>\n	<li><span style="font-size:22px\;"><span style="font-family:arial\;">BOLI protects workers&rsquo\; rights</span></span></li>\n</ul>\n<br />\n<span style="font-size:22px\;"><span style="font-family:arial\;"><strong>If you own or work for a business you will want to hear from the candidate.</strong></span></span><br />\n<br />\n<br />\n<br />\n<em><span style="font-size: 22px\;">Please register in advance to attend and reserve your seat. Lunch is $22 for members\, $30 for non-members\, or beverage only is $5 for members and $8 for non-members.&nbsp\;</span></em>
LOCATION:Persimmon Country Club 500 SE Butler Road Gresham\, OR 97080
UID:e.1572.9976
SEQUENCE:3
DTSTAMP:20260425T225917Z
URL:https://business.greshamchamber.org/events/details/business-leaders-luncheon-10-18-2022-9976
END:VEVENT

END:VCALENDAR
