BEGIN:VCALENDAR
VERSION:2.0
PRODID:-//ChamberMaster//Event Calendar 2.0//EN
METHOD:PUBLISH
X-PUBLISHED-TTL:P3D
REFRESH-INTERVAL:P3D
CALSCALE:GREGORIAN
BEGIN:VEVENT
DTSTART:20210817T183000Z
DTEND:20210817T193000Z
X-MICROSOFT-CDO-ALLDAYEVENT:FALSE
SUMMARY:Business & Leaders Luncheon
DESCRIPTION:Topic:  Legislative Session Wrap Up\n\n\n\nCurrent speakers are Senator Gorsek\, Representatives Williams and Hudson\n\n\n\nInvited:  Senator Thomsen\, Representatives Bynum and Ruiz
X-ALT-DESC;FMTTYPE=text/html:<br />\n<span style="font-family: arial\; font-size: 22px\;">Topic:&nbsp\;</span>&nbsp\;<span style="font-family:arial\;"><span style="font-size:22px\;">Legislative Session Wrap Up<br />\n<br />\nCurrent speakers are Senator Gorsek\, Representatives Williams and Hudson<br />\n<br />\nInvited:&nbsp\; Senator Thomsen\, Representatives Bynum and Ruiz</span></span>\n<div style="margin-left:0in\;"><span style="font-family:arial\;"><span style="font-size:22px\;">&nbsp\;&nbsp\;</span></span></div>\n
LOCATION:Via Zoom https://us02web.zoom.us/j/83052280937?pwd=R25ZVkpEWjZQVWticnM4NnA5dHlFUT09
UID:e.1572.8707
SEQUENCE:3
DTSTAMP:20260425T215349Z
URL:https://business.greshamchamber.org/events/details/business-leaders-luncheon-08-17-2021-8707
END:VEVENT

END:VCALENDAR
