BEGIN:VCALENDAR
VERSION:2.0
PRODID:-//ChamberMaster//Event Calendar 2.0//EN
METHOD:PUBLISH
X-PUBLISHED-TTL:P3D
REFRESH-INTERVAL:P3D
CALSCALE:GREGORIAN
BEGIN:VEVENT
DTSTART:20260317T183000Z
DTEND:20260317T200000Z
X-MICROSOFT-CDO-ALLDAYEVENT:FALSE
SUMMARY:Business and Leaders Luncheon 2026 - The Future of Travel in Gresham\, East County\, and Beyond with Todd Davidson\, CEO of Travel Oregon
DESCRIPTION:The Chamber's mission is to Advocate\, Educate\, and Collaborate with our local organizations for the vitality and prosperity of the region. Our Business and Leaders Luncheons are among the ways we fulfill that mission\, and we invite you to join us for the monthly opportunity to network\, learn\, and grow over a delicious\, locally prepared lunch.\n\n\n\nThis month's special guest is Todd Davidson\, CEO of Travel Oregon. Mr Davidson will be discussing the value of tourism to Gresham\, East County\, Multnomah County\, and all of Oregon.  \n\n\n\nJoin the Gresham Area Chamber of Commerce on Saint Patrick's Day for our March Business & Leaders Luncheon featuring special guest Todd Davidson\, CEO of Travel Oregon.\n\n\n\nEnjoy an exclusive lunch designed for business leaders as we explore the latest industry trends and gain insight into the future of tourism in Oregon.\n\n\n\nThis is a valuable opportunity to connect with fellow professionals\, expand your network\, and learn directly from one of the state's leading voices in tourism. An interactive Q&A will follow the presentation.
X-ALT-DESC;FMTTYPE=text/html:<p><span style="font-size:14px\;">The Chamber&#39\;s mission is to Advocate\, Educate\, and Collaborate with our local organizations for the vitality and prosperity of the region. Our Business and Leaders Luncheons are among the ways we fulfill that mission\, and we invite you to join us for the monthly opportunity to network\, learn\, and grow over a delicious\, locally prepared lunch.<br />\n<br />\nThis month&#39\;s special guest is Todd Davidson\, CEO of Travel Oregon.&nbsp\;Mr Davidson will be discussing the value of tourism to Gresham\, East County\, Multnomah County\, and all of Oregon.&nbsp\;&nbsp\;<br />\n<br />\nJoin the Gresham Area Chamber of Commerce on Saint Patrick&rsquo\;s Day for our March Business &amp\; Leaders Luncheon featuring special guest Todd Davidson\, CEO of Travel Oregon.<br />\n<br />\nEnjoy an exclusive lunch designed for business leaders as we explore the latest industry trends and gain insight into the future of tourism in Oregon.<br />\n<br />\n<span style="font-family:aptos\,sans-serif\;">This is a valuable opportunity to connect with fellow professionals\, expand your network\, and learn directly from one of the state&rsquo\;s leading voices in tourism. An interactive Q&amp\;A will follow the presentation.</span></span>&#65279\;<span style="font-family:Roboto\;color:#1E1514"><o:p></o:p></span></p>\n
LOCATION:Persimmon Country Club 500 SE Butler Rd Gresham\, OR 97080
UID:e.1572.14876
SEQUENCE:3
DTSTAMP:20260424T235819Z
URL:https://business.greshamchamber.org/events/details/business-and-leaders-luncheon-2026-the-future-of-travel-in-gresham-east-county-and-beyond-with-todd-davidson-ceo-of-travel-oregon-14876
END:VEVENT

END:VCALENDAR
