BEGIN:VCALENDAR
VERSION:2.0
PRODID:-//ChamberMaster//Event Calendar 2.0//EN
METHOD:PUBLISH
X-PUBLISHED-TTL:P3D
REFRESH-INTERVAL:P3D
CALSCALE:GREGORIAN
BEGIN:VEVENT
DTSTART:20210715T230000Z
DTEND:20210716T030000Z
X-MICROSOFT-CDO-ALLDAYEVENT:FALSE
SUMMARY:Brookdale MT. Hood Assisted Living and Brookdale Troutdale Memory Care Open House Event!
DESCRIPTION:Please join us for our OPEN HOUSE to celebrate our REMODELS!\n\n\n\n\n\nRSVP by July 7 at 503.250.0981 (voice or text) or nboers@brookdale.com\n\n \n\nLive Music\n\nCatering from Buster's BBQ\n\nDessert from Hope's Bakery\n\n \n\nWe hope to see you there!!
X-ALT-DESC;FMTTYPE=text/html:<span style="color:#203864"><span style="font-size:18.0pt">Please join us for our OPEN HOUSE to celebrate our REMODELS!</span></span><br />\n<br />\n<br />\n<span style="color:#203864"><span style="font-size:18.0pt">RSVP by July 7 at 503.250.0981 (voice or text) or nboers@brookdale.com</span></span><br />\n&nbsp\;<br />\n<span style="color:#203864"><span style="font-size:18.0pt">Live Music</span></span><br />\n<span style="color:#203864"><span style="font-size:18.0pt">Catering from Buster&rsquo\;s BBQ</span></span><br />\n<span style="color:#203864"><span style="font-size:18.0pt">Dessert from Hope&rsquo\;s Bakery</span></span><br />\n&nbsp\;<br />\n<span style="color:#203864"><span style="font-size:18.0pt">We hope to see you there!!</span></span><br />\n&nbsp\;
LOCATION:Brookdale Troutdale 1201 SW Cherry Park Rd Troutdale\, OR 97060
UID:e.1572.9790
SEQUENCE:3
DTSTAMP:20260425T200342Z
URL:https://business.greshamchamber.org/events/details/brookdale-mt-hood-assisted-living-and-brookdale-troutdale-memory-care-open-house-event-9790
END:VEVENT

END:VCALENDAR
