BEGIN:VCALENDAR
VERSION:2.0
PRODID:-//ChamberMaster//Event Calendar 2.0//EN
METHOD:PUBLISH
X-PUBLISHED-TTL:P3D
REFRESH-INTERVAL:P3D
CALSCALE:GREGORIAN
BEGIN:VEVENT
DTSTART:20230622T160000Z
DTEND:20230622T190000Z
X-MICROSOFT-CDO-ALLDAYEVENT:FALSE
SUMMARY:Be Bold - Be Brave - Be You
DESCRIPTION:You're invited on June 22nd. Be Bold - Be Brave - Be You\, promises to be an uplifting informative experience about employment possibilities for people with disabilities as well as highlighting the benefits of inclusive workforces for people of all abilities\, businesses\, and our communities.\n\n \n\nDate: June 22nd\n\nTime: 9am-12pm\n\nLocation: Portland Hilton Hotel\n\nBuffet Brunch Provided\n\nSpeakers: John and Mark\, co-founders of John's Crazy Socks\n\nPerformance by: Phame\n\nSponsored by: ALSO and GiGi's Playhouse of Portland\n\n \n\nPlease share share share and help us spread the word!
X-ALT-DESC;FMTTYPE=text/html:<p><span style="font-size:22px\;"><strong><span style="color: inherit\; font-family: aparajita\, serif\;">You&#39\;re invited on June 22<sup>nd</sup>. Be Bold - Be Brave - Be You\, promises to be an uplifting informative experience about employment possibilities for people with disabilities as well as highlighting the benefits of inclusive workforces for people of all abilities\, businesses\, and our communities.</span></strong></span></p>\n\n<p><span style="font-size:22px\;"><strong><span style="color: inherit\; font-family: aparajita\, serif\;">&nbsp\;</span><br />\n<span style="color: inherit\; font-family: aparajita\, serif\;">Date: June 22nd</span><br />\n<span style="color: inherit\; font-family: aparajita\, serif\;">Time: 9am-12pm</span><br />\n<span style="color: inherit\; font-family: aparajita\, serif\;">Location: Portland Hilton Hotel</span><br />\n<span style="color: inherit\; font-family: aparajita\, serif\;">Buffet Brunch Provided</span></strong></span></p>\n\n<p><span style="font-size:22px\;"><strong><span style="color: inherit\; font-family: aparajita\, serif\;">Speakers: John and Mark\, co-founders of John&#39\;s Crazy Socks</span><br />\n<span style="color: inherit\; font-family: aparajita\, serif\;">Performance by: Phame</span></strong></span></p>\n\n<p><span style="font-size:22px\;"><strong><span style="color: inherit\; font-family: aparajita\, serif\;">Sponsored by: ALSO and GiGi&#39\;s Playhouse of Portland</span></strong></span></p>\n\n<p><span style="font-size:22px\;"><strong><span style="color: inherit\; font-family: aparajita\, serif\;">&nbsp\;</span></strong></span></p>\n\n<p><span style="font-size:22px\;"><strong><span style="color: inherit\; font-family: aparajita\, serif\;">Please share share share and help us spread the word!</span></strong></span></p>\n
LOCATION:Hilton Portland Downtown 921 SW 6th Ave. Portland\, OR 97204
UID:e.1572.12720
SEQUENCE:3
DTSTAMP:20260420T070953Z
URL:https://business.greshamchamber.org/events/details/be-bold-be-brave-be-you-12720
END:VEVENT

END:VCALENDAR
