BEGIN:VCALENDAR
VERSION:2.0
PRODID:-//ChamberMaster//Event Calendar 2.0//EN
METHOD:PUBLISH
X-PUBLISHED-TTL:P3D
REFRESH-INTERVAL:P3D
CALSCALE:GREGORIAN
BEGIN:VEVENT
DTSTART:20250926T003000Z
DTEND:20250926T020000Z
X-MICROSOFT-CDO-ALLDAYEVENT:FALSE
SUMMARY:Art Talk
DESCRIPTION:Join Gresham Area League for the Arts (GALA) and CoVault for a captivating Art Talk on Thursday\, September 25th\, from 5:30 to 7:00 PM\, as artist Janna Kimel shares insights into her chronic pain project.\n\nJanna will discuss the project's goals\, explore how participating artists have found value\, and present examples of the powerful artwork created. Also\, she will feature short video interviews with some of the artists\, offering a glimpse into their creative process and experiences.\n\nThe evening will conclude with an optional sketching or writing activity inspired by the project's methods\, allowing you to take away creative ideas for your own work. Artists and art supporters are welcome to participate in this free event.
X-ALT-DESC;FMTTYPE=text/html:<p>Join Gresham Area League for the Arts (GALA) and CoVault for a captivating <strong>Art Talk on Thursday\, September 25th\, from 5:30 to 7:00 PM</strong>\, as artist Janna Kimel shares insights into her chronic pain project.</p>\n\n<p>Janna will discuss the project&#39\;s goals\, explore how participating artists have found value\, and present examples of the powerful artwork created. Also\, she will feature short video interviews with some of the artists\, offering a glimpse into their creative process and experiences.</p>\n\n<p>The evening will conclude with an optional sketching or writing activity inspired by the project&#39\;s methods\, allowing you to take away creative ideas for your own work. Artists and art supporters are welcome to participate in this free event.</p>\n
LOCATION:Gresham City Council 1331 NW Eastman Pkwy\, Gresham\, OR 97030
UID:e.1572.14904
SEQUENCE:3
DTSTAMP:20260425T220324Z
URL:https://business.greshamchamber.org/events/details/art-talk-14904
END:VEVENT

END:VCALENDAR
