BEGIN:VCALENDAR
VERSION:2.0
PRODID:-//ChamberMaster//Event Calendar 2.0//EN
METHOD:PUBLISH
X-PUBLISHED-TTL:P3D
REFRESH-INTERVAL:P3D
CALSCALE:GREGORIAN
BEGIN:VEVENT
DTSTART:20260429T003000Z
DTEND:20260429T020000Z
X-MICROSOFT-CDO-ALLDAYEVENT:FALSE
SUMMARY:April Try Local First - Discover the Beauty of Dahlias & Support Local!
DESCRIPTION:Join the Gresham Area Chamber of Commerce\, Burns Feed Store\, Clackamas County Bank\, and Mt. Hood Hospice for a special Dahlia Seminar celebrating community\, gardening\, and local partnerships!\n\n\n\nWhether you're a seasoned gardener or just getting started\, you'll learn expert tips on how to plant\, grow\, and care for stunning dahlias that will brighten your garden all season long.\n\n\n\nMake it a true local experience by purchasing your planting supplies at Burns Feed Store and picking up beautiful dahlia bulbs from Clackamas County Bank\, each bulb purchased helps support the compassionate work of Mt. Hood Hospice.\n\n \n\nThis is what Try Local First is all about supporting our local businesses\, strengthening our community\, and enjoying meaningful experiences together. It's a wonderful opportunity to connect\, learn\, and support not just one\, but three outstanding local organizations at once.\n\n\n\nCome grow with us\, we can't wait to see you there!
X-ALT-DESC;FMTTYPE=text/html:<p class="cvGsUA direction-ltr align-center para-style-body" style="color: rgba(0\,0\,0\,var(--O42jJQ\,1))\; caret-color: rgb(0\, 0\, 0)\; --8sD0Kg: none\; font-family: YAFdJjTk5UU_0\, _fb_\, auto\; --cyV3ZQ: 21.3343px\; --gJPlXQ: 1.4\; --s8NbEA: p\; line-height: 29px\;"><span style="font-size:18px\;">Join the Gresham Area Chamber of Commerce\, Burns Feed Store\, Clackamas County Bank\, and Mt. Hood Hospice&nbsp\;for a special Dahlia Seminar celebrating community\, gardening\, and local partnerships!<br />\n<br />\nWhether you&#39\;re a seasoned gardener or just getting started\, you&#39\;ll learn expert tips on how to plant\, grow\, and care for stunning dahlias that will brighten your garden all season long.<br />\n<br />\nMake it a true local experience by purchasing your planting supplies at Burns Feed Store and picking up beautiful dahlia bulbs from Clackamas County Bank\, each bulb purchased helps support the compassionate work of Mt. Hood Hospice.</span><br />\n&nbsp\;</p>\n\n<p class="cvGsUA direction-ltr align-center para-style-body" style="color: rgba(0\,0\,0\,var(--O42jJQ\,1))\; caret-color: rgb(0\, 0\, 0)\; --8sD0Kg: none\; font-family: YAFdJjTk5UU_0\, _fb_\, auto\; --cyV3ZQ: 21.3343px\; --gJPlXQ: 1.4\; --s8NbEA: p\; line-height: 29px\;"><span style="font-size:18px\;">This is what Try Local First is all about supporting our local businesses\, strengthening our community\, and enjoying meaningful experiences together. It&rsquo\;s a wonderful opportunity to connect\, learn\, and support not just one\, but three outstanding local organizations at once.<br />\n<br />\nCome grow with us\, we can&rsquo\;t wait to see you there! <span style="font-family:segoe ui emoji\,sans-serif\;">&#127804\;</span></span><br />\n&nbsp\;</p>\n
LOCATION:Burns Feed Store 29215 SE Orient Dr Gresham\, OR 97080
UID:e.1572.15480
SEQUENCE:3
DTSTAMP:20260425T230443Z
URL:https://business.greshamchamber.org/events/details/april-try-local-first-discover-the-beauty-of-dahlias-support-local-15480
END:VEVENT

END:VCALENDAR
