BEGIN:VCALENDAR
VERSION:2.0
PRODID:-//ChamberMaster//Event Calendar 2.0//EN
METHOD:PUBLISH
X-PUBLISHED-TTL:P3D
REFRESH-INTERVAL:P3D
CALSCALE:GREGORIAN
BEGIN:VEVENT
DTSTART:20230808T143000Z
DTEND:20230808T153000Z
X-MICROSOFT-CDO-ALLDAYEVENT:FALSE
SUMMARY:Ambassadors
DESCRIPTION:We as Ambassadors welcome and serve as an informational outlet for members and guests.  We help chamber events run smoothly through volunteering and supporting staff.\n\n\n\nThis committee of active Chamber members coordinate events such as: Grand Openings\, Ribbon Cuttings\, Groundbreakings and Friday AM meetings.\n\n\n\nIn addition\, Ambassadors welcome dignitaries and represent the Chamber at community events\, forums and showcases.\n\n\n\nFor more information on joining this committee contact Erin Beggs.
X-ALT-DESC;FMTTYPE=text/html:<span style="font-size: 22px\; color: rgb(128\, 0\, 128)\;"><span style="font-family: arial\, sans-serif\;">We as Ambassadors welcome and serve as an informational outlet for members and guests.&nbsp\; We help chamber events run smoothly through volunteering and supporting staff.</span></span><br />\n<br />\n<span style="font-size: 22px\; font-family: arial\, sans-serif\;"><span style="color: rgb(128\, 0\, 128)\;">This committee of active Chamber members coordinate events such as: Grand Openings\, Ribbon Cuttings\, Groundbreakings and Friday AM meetings.<br />\n<br />\nIn addition\, Ambassadors welcome dignitaries and represent the Chamber at community events\, forums and showcases.<br />\n<br />\nFor more information on joining this committee contact&nbsp\;</span><a href="mailto:shelleyw@greshamchamber.org"><span style="color: rgb(128\, 0\, 128)\;">E</span></a><a href="mailto:erin@greshamchamber.org?subject=Chamber%20Ambassador"><span style="color: rgb(128\, 0\, 128)\;">rin Beggs</span></a><span style="color: rgb(128\, 0\, 128)\;">.</span></span>
LOCATION:Hope's Cafe 455 NE Burnside Road Gresham 97030
UID:e.1572.11121
SEQUENCE:3
DTSTAMP:20260419T155603Z
URL:https://business.greshamchamber.org/events/details/ambassadors-11121
END:VEVENT

END:VCALENDAR
