BEGIN:VCALENDAR
VERSION:2.0
PRODID:-//ChamberMaster//Event Calendar 2.0//EN
METHOD:PUBLISH
X-PUBLISHED-TTL:P3D
REFRESH-INTERVAL:P3D
CALSCALE:GREGORIAN
BEGIN:VEVENT
DTSTART:20221108T153000Z
DTEND:20221108T163000Z
X-MICROSOFT-CDO-ALLDAYEVENT:FALSE
SUMMARY:Ambassadors
DESCRIPTION:We as Ambassadors welcome and serve as an informational outlet for members and guests.  We help chamber events run smoothly through volunteering and supporting staff.\n\n\n\nThis committee of active Chamber members coordinate events such as: Grand Openings\, Ribbon Cuttings\, Groundbreakings and Friday AM meetings.\n\nIn addition\, Ambassadors welcome dignitaries and represent the Chamber at community events\, forums and showcases.\n\nFor more information on joining this committee contact Erin Beggs.
X-ALT-DESC;FMTTYPE=text/html:<span style="color:#800080\;"><span style="font-family:arial\;"><span style="font-size:22px\;"><strong>We as Ambassadors welcome and serve as an informational outlet for members and guests.&nbsp\; We help chamber events run smoothly through volunteering and supporting staff.</strong></span></span></span><br />\n<br />\n<span style="font-family:arial\;"><span style="color:#FF8C00\;"><span style="font-size:13.5pt\;">This committee of active Chamber members coordinate events such as: Grand Openings\, Ribbon Cuttings\, Groundbreakings and Friday AM meetings.</span><br />\n<span style="font-size:13.5pt\;">In addition\, Ambassadors welcome dignitaries and represent the Chamber at community events\, forums and showcases.</span></span><br />\n<span style="font-size:13.5pt\;"><span style="color:#FF8C00\;">For more information on joining this committee contact </span><strong><a href="mailto:shelleyw@greshamchamber.org"><span style="color:#0000CD\;">E</span></a><a href="mailto:erin@greshamchamber.org?subject=Chamber%20Ambassador"><span style="color:#0000CD\;">rin Beggs</span></a><span style="color:#0000CD\;">.</span></strong></span></span><br />\n<br />\n<br />\n&nbsp\;
LOCATION:Nanna's Place 1000 N Main Ave Gresham 97030
UID:e.1572.9965
SEQUENCE:3
DTSTAMP:20260422T094335Z
URL:https://business.greshamchamber.org/events/details/ambassadors-11-08-2022-9965
END:VEVENT

END:VCALENDAR
