BEGIN:VCALENDAR
VERSION:2.0
PRODID:-//ChamberMaster//Event Calendar 2.0//EN
METHOD:PUBLISH
X-PUBLISHED-TTL:P3D
REFRESH-INTERVAL:P3D
CALSCALE:GREGORIAN
BEGIN:VEVENT
DTSTART:20221011T143000Z
DTEND:20221011T153000Z
X-MICROSOFT-CDO-ALLDAYEVENT:FALSE
SUMMARY:Ambassadors
DESCRIPTION:We as Ambassadors welcome and serve as an informational outlet for members and guests.  We help chamber events run smoothly through volunteering and supporting staff.\n\n\n\n\n\nThe Ambassadors are looking for people to join our team. If you are interested please reach out to Erin at 503.665.1131 x2
X-ALT-DESC;FMTTYPE=text/html:<span style="color:#0000CD\;"><span style="font-family:arial\;"><span style="font-size:24px\;"><strong>We as Ambassadors welcome and serve as an informational outlet for members and guests.&nbsp\; We help chamber events run smoothly through volunteering and supporting staff.</strong></span></span></span><br />\n<br />\n<br />\n<span style="color:#800080\;"><span style="font-family:arial\;"><span style="font-size:18px\;"><strong>The Ambassadors are looking for people to join our team. If you are interested please reach out to Erin at 503.665.1131 x2</strong></span></span></span><br />\n<br />\n&nbsp\;
LOCATION:Nanna's Place 1000 N Main Ave Gresham 97030
UID:e.1572.9964
SEQUENCE:3
DTSTAMP:20260423T203057Z
URL:https://business.greshamchamber.org/events/details/ambassadors-10-11-2022-9964
END:VEVENT

END:VCALENDAR
