BEGIN:VCALENDAR
VERSION:2.0
PRODID:-//ChamberMaster//Event Calendar 2.0//EN
METHOD:PUBLISH
X-PUBLISHED-TTL:P3D
REFRESH-INTERVAL:P3D
CALSCALE:GREGORIAN
BEGIN:VEVENT
DTSTART;VALUE=DATE:20230101
DTEND;VALUE=DATE:20230102
TRANSP:TRANSPARENT
X-MICROSOFT-CDO-ALLDAYEVENT:TRUE
SUMMARY:Adopt-A-Cop Registration
DESCRIPTION:This is a Gresham-wide celebration open to all Gresham area businesses and residents.\n\n\n\nJanuary is Adopt-A-Cop month and we kick off the event on National Law Enforcement Appreciation Day (1/9)! Participating businesses will be supplied with signage for store windows and a "tool kit" featuring a variety of ways to celebrate our police officers.\n\nThere is no cost to participate in the program and it is a city-wide opportunity. You need not be a Chamber member to participate.\n\n\n\n \n\nYou can sign up beginning 11/28/22. Registration ends 1/2/23. The campaign starts Sunday\, January 9th on National Law Enforcement Appreciation Day. The tool kits will be distributed the last week of December and the first week of January\n\nYou may adopt more than one police officer. You may also request a specific police officer.\n\n Register Here
X-ALT-DESC;FMTTYPE=text/html:<p style="box-sizing: border-box\; margin: 0px 0px 10px\; color: rgb(85\, 85\, 85)\; font-family: Raleway\, sans-serif\; font-size: 16px\; background-color: rgb(249\, 249\, 249)\;"><strong><span style="color:#0000CD\;"><span style="font-family: Raleway\, sans-serif\; background-color: rgb(249\, 249\, 249)\;">This is a Gresham-wide celebration open to all Gresham area businesses and residents.</span><br />\n<br />\nJanuary is Adopt-A-Cop month and we kick off the event on National Law Enforcement Appreciation Day (1/9)! Participating businesses will be supplied with signage for store windows and a &ldquo\;tool kit&rdquo\; featuring&nbsp\;a variety of ways to celebrate our police officers.</span></strong></p>\n\n<p style="box-sizing: border-box\; margin: 0px 0px 10px\; color: rgb(85\, 85\, 85)\; font-family: Raleway\, sans-serif\; font-size: 16px\; background-color: rgb(249\, 249\, 249)\;"><strong><span style="color:#0000CD\;">There&nbsp\;<u style="box-sizing: border-box\;">is no cost</u>&nbsp\;to participate in the program and it is&nbsp\;<u style="box-sizing: border-box\;">a city-wide</u>&nbsp\;opportunity. You need not be a Chamber member to participate.</span></strong><br />\n<br />\n&nbsp\;</p>\n\n<p style="box-sizing: border-box\; margin: 0px 0px 10px\; color: rgb(85\, 85\, 85)\; font-family: Raleway\, sans-serif\; font-size: 16px\; background-color: rgb(249\, 249\, 249)\;"><strong><span style="color:#0000CD\;">You can sign up beginning 11/28/22. Registration ends 1/2/23. The campaign starts&nbsp\;<strong style="box-sizing: border-box\;">Sunday\, January 9th</strong>&nbsp\;on&nbsp\;<strong style="box-sizing: border-box\;">National Law Enforcement Appreciation Day</strong>. The tool kits will be distributed the last week of December and the first week of January</span></strong></p>\n\n<p style="box-sizing: border-box\; margin: 0px 0px 10px\; color: rgb(85\, 85\, 85)\; font-family: Raleway\, sans-serif\; font-size: 16px\; background-color: rgb(249\, 249\, 249)\;"><strong><span style="color:#0000CD\;">You may adopt more than one police officer. You may also&nbsp\;request a specific police officer.</span></strong></p>\n\n<p style="box-sizing: border-box\; margin: 0px 0px 10px\; color: rgb(85\, 85\, 85)\; font-family: Raleway\, sans-serif\; font-size: 16px\; background-color: rgb(249\, 249\, 249)\;"><span style="color: rgb(5\, 5\, 5)\; font-family: &quot\;Segoe UI Historic&quot\;\, &quot\;Segoe UI&quot\;\, Helvetica\, Arial\, sans-serif\; font-size: 24px\; white-space: pre-wrap\;">&#128073\;</span><span style="font-size:48px\;"><span style="font-family:arial\;"><strong><a href="http://business.greshamchamber.org/form/view/27982"><span style="color:#FF8C00\;">Register Here</span></a></strong></span></span><span style="color: rgb(5\, 5\, 5)\; font-family: &quot\;Segoe UI Historic&quot\;\, &quot\;Segoe UI&quot\;\, Helvetica\, Arial\, sans-serif\; font-size: 24px\; white-space: pre-wrap\;">&#128072\;</span></p>\n
LOCATION:
UID:e.1572.11143
SEQUENCE:3
DTSTAMP:20260421T130655Z
URL:https://business.greshamchamber.org/events/details/adopt-a-cop-registration-01-01-2023-11143
END:VEVENT

END:VCALENDAR
