BEGIN:VCALENDAR
VERSION:2.0
PRODID:-//ChamberMaster//Event Calendar 2.0//EN
METHOD:PUBLISH
X-PUBLISHED-TTL:P3D
REFRESH-INTERVAL:P3D
CALSCALE:GREGORIAN
BEGIN:VEVENT
DTSTART:20230827T170000Z
DTEND:20230827T210000Z
X-MICROSOFT-CDO-ALLDAYEVENT:FALSE
SUMMARY:5th Annual Car Show & Fundraiser
DESCRIPTION:5th Annual Car Show and Fundraiser for the Gresham Senior Center and Montavilla Quilts of Valor on Sunday\, August 27\, 2023 from 10:00am to 2:00pm at Gresham Senior Center Parking Lot\, 600 NE 8th St. Gresham OR 97030.\n\nThere will be food\, bake sale\, 50/50\, quilt raffle\, games & Silent Auction.\n\nPre-register your cars by August 18\, 2023 for $15.00 per car\, thereafter $20.00 starting at 8:30am day of show.\n\nFREE to the public for viewing. Free parking in parking structure across the street.\n\nJudging of cars done by members of the Historical Automobile Club of Oregon. Their cars will not be judged.\n\nLots of trophies. Dash plaques for first 100 that register.
X-ALT-DESC;FMTTYPE=text/html:<span style="font-size:22px\;"><strong>5th Annual Car Show and Fundraiser for the Gresham Senior Center and Montavilla Quilts of Valor on&nbsp\;Sunday\, August 27\, 2023 from 10:00am to 2:00pm at Gresham Senior Center Parking Lot\, 600 NE 8th St. Gresham OR 97030.<br />\nThere will be food\, bake sale\, 50/50\, quilt raffle\, games &amp\; Silent Auction.<br />\nPre-register your cars by August 18\, 2023 for $15.00 per car\, thereafter $20.00 starting at 8:30am day of show.<br />\nFREE to the public for viewing. Free parking in parking structure across the street.<br />\nJudging of cars done by members of the Historical Automobile Club of Oregon. Their cars will not be judged.<br />\nLots of trophies. Dash plaques for first 100 that register.</strong></span>
LOCATION:Parking lot at Gresham Senior Center\, 600 NE 8th St.\, Gresham\, OR\, 97030
UID:e.1572.12659
SEQUENCE:3
DTSTAMP:20260421T085346Z
URL:https://business.greshamchamber.org/events/details/5th-annual-car-show-fundraiser-12659
END:VEVENT

END:VCALENDAR
