BEGIN:VCALENDAR
VERSION:2.0
PRODID:-//ChamberMaster//Event Calendar 2.0//EN
METHOD:PUBLISH
X-PUBLISHED-TTL:P3D
REFRESH-INTERVAL:P3D
CALSCALE:GREGORIAN
BEGIN:VEVENT
DTSTART;VALUE=DATE:20210705
DTEND;VALUE=DATE:20210706
TRANSP:TRANSPARENT
X-MICROSOFT-CDO-ALLDAYEVENT:TRUE
SUMMARY:4th of July Holiday Observed
DESCRIPTION:The Gresham Chamber wishes you and your family a Happy Independence Day!  Our office will be closed in observance of the holiday.
X-ALT-DESC;FMTTYPE=text/html:<br />\n<strong><span style="font-size:22px\;">The Gresham Chamber wishes you and your family a Happy Independence Day!&nbsp\; Our office will be closed in observance of the holiday.</span></strong>
LOCATION:
UID:e.1572.9338
SEQUENCE:3
DTSTAMP:20260425T215319Z
URL:https://business.greshamchamber.org/events/details/4th-of-july-holiday-observed-9338
END:VEVENT

END:VCALENDAR
