BEGIN:VCALENDAR
VERSION:2.0
PRODID:-//ChamberMaster//Event Calendar 2.0//EN
METHOD:PUBLISH
X-PUBLISHED-TTL:P3D
REFRESH-INTERVAL:P3D
CALSCALE:GREGORIAN
BEGIN:VEVENT
DTSTART:20210821T153000Z
DTEND:20210821T190000Z
X-MICROSOFT-CDO-ALLDAYEVENT:FALSE
SUMMARY:14th Annual Johnson Creek Clean-Up
DESCRIPTION:Johnson Creek Clean-Up Details-\n\n \n\nOver the last 14 years\, dedicated volunteers have removed more than 58 tons of trash from Johnson Creek\, and still going strong! We have 20+ small teams to choose from where you can be a part of this vitally important effort to keep the creek clean.\n\n \n\nRegister here!!!\n\n \n\nSide note: there are lots of support jobs if you want to help but don't want to pick up trash from the water. Link here.\n\n \n\nRUNDOWN FOR THE DAY\n\nSaturday\, August 21\, 8:30am-12pm\n\n \n\n8:30 : arrive at your site to pick up trash\n\n9-12 : pick up trash w your small group\n\n12: Burrito time\, delivered to your site\n\n \n\nHow do you choose which site to volunteer at? Visit our website here and follow the blue questions to guide you. \n\n\nIf you are signing up with a group\, start early to have the best chance of volunteering at the same site--each person must register for themselves\, and sites will fill quickly.\n\n\n \n\nLooking forward to lots of summer fun together- \nThe Johnson Creek Clean-Up Video - https://www.youtube.com/watch?v=3Yb8r4_uxr0&t=53s\n\n\n\n\nNO EXPERIENCE NECESSARY BUT REGISTRATION IS- SITES ARE FILLING UP SO GET YOUR SPOT!\n\n \n\nQuestions? Feel free to reach out! courtney@jcwc.org
X-ALT-DESC;FMTTYPE=text/html:<div style="text-align:center"><strong>Johnson Creek Clean-Up Details-</strong></div>\n\n<div style="text-align:center">&nbsp\;</div>\n\n<div>Over the last 14 years\, dedicated volunteers have removed more than 58 tons of trash from Johnson Creek\, and still going strong! We have 20+ small teams to choose from where you can be a part of this vitally important effort to keep the creek clean.</div>\n\n<div>&nbsp\;</div>\n\n<div style="text-align:center"><a href="https://www.jcwc.org/events/2021-johnson-creek-clean-up/" style="color: rgb(17\, 85\, 204)\;" target="_blank"><strong>Register here!!!</strong></a></div>\n\n<div>&nbsp\;</div>\n\n<div><em>Side note: there are lots of support jobs if you want to help but don&#39\;t want to pick up trash from the water. Link&nbsp\;<a href="https://signup.com/go/ACjAezN" style="color: rgb(17\, 85\, 204)\;" target="_blank">here</a>.</em></div>\n\n<div>&nbsp\;</div>\n\n<div style="text-align:center">RUNDOWN FOR THE DAY</div>\n\n<div style="text-align:center">Saturday\, August 21\, 8:30am-12pm</div>\n\n<div>&nbsp\;</div>\n\n<div>8:30 : arrive at your site to pick up trash</div>\n\n<div>9-12 : pick up trash w your small group</div>\n\n<div>12: Burrito time\, delivered to your site</div>\n\n<div>&nbsp\;</div>\n\n<div>How do you choose which site to volunteer at? Visit our website&nbsp\;<a href="https://www.jcwc.org/events/2021-johnson-creek-clean-up/" style="color: rgb(17\, 85\, 204)\;" target="_blank">here&nbsp\;</a>and follow the blue questions to guide you.&nbsp\;</div>\n\n<div>\n<h1 class="title style-scope ytd-video-primary-info-renderer" style="margin: 0px\; padding: 0px\; border: 0px\; background: rgb(249\, 249\, 249)\; max-height: calc(2 * var(--yt-navbar-title-line-height\, 2.4rem))\; overflow: hidden\; line-height: var(--yt-navbar-title-line-height\, 2.4rem)\; color: var(--ytd-video-primary-info-renderer-title-color\, var(--yt-spec-text-primary))\; font-family: Roboto\, Arial\, sans-serif\; font-size: var(--ytd-video-primary-info-renderer-title-font-size\, var(--yt-navbar-title-font-size\, inherit))\; transform: var(--ytd-video-primary-info-renderer-title-transform\, none)\; text-shadow: var(--ytd-video-primary-info-renderer-title-text-shadow\, none)\;">If you are signing up with a group\, start early to have the best chance of volunteering at the same site--each person must register for themselves\, and sites will fill quickly.</h1>\n</div>\n\n<div>&nbsp\;</div>\n\n<div>Looking forward to lots of summer fun together-&nbsp\;\n<h1 class="title style-scope ytd-video-primary-info-renderer" style="line-height: var(--yt-navbar-title-line-height\, 2.4rem)\; color: var(--ytd-video-primary-info-renderer-title-color\, var(--yt-spec-text-primary))\; margin: 0px\; padding: 0px\; border: 0px\; background: rgb(249\, 249\, 249)\; max-height: calc(2 * var(--yt-navbar-title-line-height\, 2.4rem))\; overflow: hidden\; font-family: Roboto\, Arial\, sans-serif\; font-size: var(--ytd-video-primary-info-renderer-title-font-size\, var(--yt-navbar-title-font-size\, inherit))\; transform: var(--ytd-video-primary-info-renderer-title-transform\, none)\; text-shadow: var(--ytd-video-primary-info-renderer-title-text-shadow\, none)\;"><yt-formatted-string class="style-scope ytd-video-primary-info-renderer" force-default-style="" style="word-break: break-word\;">The Johnson Creek Clean-Up Video -&nbsp\;<a href="https://www.youtube.com/watch?v=3Yb8r4_uxr0&amp\;t=53s">https://www.youtube.com/watch?v=3Yb8r4_uxr0&amp\;t=53s</a></yt-formatted-string></h1>\n<br />\n<br />\nNO EXPERIENCE NECESSARY BUT REGISTRATION IS- SITES ARE FILLING UP SO GET YOUR SPOT!</div>\n\n<div>&nbsp\;</div>\n\n<div>Questions? Feel free to reach out! courtney@jcwc.org</div>\n
LOCATION:Two sites to choose from in Gresham- see sites here https://www.jcwc.org/events/2021-johnson-creek-clean-up/
UID:e.1572.9797
SEQUENCE:3
DTSTAMP:20260425T215017Z
URL:https://business.greshamchamber.org/events/details/14th-annual-johnson-creek-clean-up-9797
END:VEVENT

END:VCALENDAR
