BEGIN:VCALENDAR
VERSION:2.0
PRODID:-//ChamberMaster//Event Calendar 2.0//EN
METHOD:PUBLISH
X-PUBLISHED-TTL:P3D
REFRESH-INTERVAL:P3D
CALSCALE:GREGORIAN
BEGIN:VEVENT
DTSTART:20260204T173000Z
DTEND:20260204T200000Z
X-MICROSOFT-CDO-ALLDAYEVENT:FALSE
SUMMARY:11th Annual Small Business Open House Metro and Multnomah County
DESCRIPTION:Come mingle with Metro and Multnomah County staff at the Open House!  A great chance for small businesses in the Metro Region to introduce themselves to project managers from both agencies\, learn about this year's upcoming opportunities\, and how to do business with government. Even if you've attended before - this event is for you: you will get the chance to meet additional project managers and hear about new project opportunities.\n\n \n\nResource Room: Take the opportunity to learn about the resources available to your business.\n\n\n\n \n\nMeet Department Staff from: \n\n\n	\n		\n			\n			Metro\n			\n			\n			Multnomah County\n			\n		\n		\n			\n			       Oregon Zoo\n			\n			\n			        Community Justice\n			\n		\n		\n			\n			       Portland'5 Centers for the Arts\n			\n			\n			        Community Services\n			\n		\n		\n			\n			       Oregon Convention Center\n			\n			\n			        County Assets\n			\n		\n		\n			\n			       Property and Environmental Services\n			\n			\n			        County Human Services\n			\n		\n		\n			\n			       Planning\n			\n			\n			        County Management\n			\n		\n		\n			\n			       Parks and Natural Areas\n			\n			\n			        Health Department\n			\n		\n		\n			\n			       Portland Expo Center\n\n			       Communications\n\n			       Human Resources\n\n			       Information Services\n\n			       Finance and Regulatory Services\n\n			 \n			\n			\n			        Library\n\n			        Sherriff\n			\n		\n	\n\n\n \n\n You will learn:\n\n \n\n          How to do business with Metro and Multnomah County \n\n          How to register as an Oregon State Certified Small Business  \n\n          What various departments in both agencies are tasked with\n\n          What kinds of contracts various departments are soliciting and the kinds of contracts they typically award \n\n          Current and upcoming opportunities
X-ALT-DESC;FMTTYPE=text/html:<p><span style="color:rgb(0\, 0\, 0)\; font-family:arial\,sans-serif\; font-size:12pt">Come mingle with Metro and Multnomah County staff at the Open House!&nbsp\; A great chance for small businesses in the Metro Region to introduce themselves to project managers from both agencies\, learn about this year&rsquo\;s upcoming opportunities\, and how to do business with government. Even if you&#39\;ve attended before - this event is for you: you will get the chance to meet additional project managers and hear about new project opportunities.</span></p>\n\n<p><span style="color:rgb(0\, 0\, 0)\; font-family:arial\,sans-serif\; font-size:12pt"><span style="font-family:arial\,sans-serif"><span style="font-family:conv_avenirltstd-book\,arial\,sans-serif">&nbsp\;</span></span></span></p>\n\n<p><span style="color:rgb(0\, 0\, 0)\; font-family:arial\,sans-serif\; font-size:12pt"><span style="font-family:arial\,sans-serif"><span style="font-family:conv_avenirltstd-book\,arial\,sans-serif">Resource Room: Take the opportunity to learn about the resources available to your business.</span></span></span><br />\n<br />\n&nbsp\;</p>\n\n<p><strong><span style="color:rgb(0\, 0\, 0)\; font-family:arial\,sans-serif\; font-size:13.5pt">Meet Department Staff from:</span></strong><span style="color:rgb(0\, 0\, 0)\; font-family:verdana\,sans-serif\; font-size:7.5pt">&nbsp\;</span></p>\n\n<table border="0" cellpadding="0" cellspacing="0" style="border-collapse:collapse\; border-spacing:0px\; color:rgb(100\, 100\, 100)\; font-family:conv_avenirltstd-book\,arial\,sans-serif\; font-size:15px\; height:277px\; outline:none !important\; width:739px">\n	<tbody>\n		<tr>\n			<td style="width:233.8pt">\n			<p><strong><span style="color:rgb(0\, 0\, 0)\; font-family:arial\,sans-serif\; font-size:12pt">Metro</span></strong></p>\n			</td>\n			<td style="width:234.2pt">\n			<p><strong><span style="color:rgb(0\, 0\, 0)\; font-family:arial\,sans-serif\; font-size:12pt">Multnomah County</span></strong></p>\n			</td>\n		</tr>\n		<tr>\n			<td style="width:233.8pt">\n			<p><span style="color:rgb(0\, 0\, 0)\; font-family:symbol\; font-size:12pt">&middot\;</span><span style="color:rgb(0\, 0\, 0)\; font-family:times new roman\,serif\; font-size:7pt">&nbsp\;&nbsp\;&nbsp\;&nbsp\;&nbsp\;&nbsp\;</span><span style="color:rgb(0\, 0\, 0)\; font-family:arial\,sans-serif\; font-size:12pt">Oregon Zoo</span></p>\n			</td>\n			<td style="width:234.2pt">\n			<p><span style="color:rgb(0\, 0\, 0)\; font-family:symbol\; font-size:12pt">&middot\;</span><span style="color:rgb(0\, 0\, 0)\; font-family:times new roman\,serif\; font-size:7pt">&nbsp\;&nbsp\;&nbsp\;&nbsp\;&nbsp\;&nbsp\;</span><span style="color:rgb(0\, 0\, 0)\; font-family:arial\,sans-serif\; font-size:12pt">&nbsp\;Community Justice</span></p>\n			</td>\n		</tr>\n		<tr>\n			<td style="width:233.8pt">\n			<p><span style="color:rgb(0\, 0\, 0)\; font-family:symbol\; font-size:12pt">&middot\;</span><span style="color:rgb(0\, 0\, 0)\; font-family:times new roman\,serif\; font-size:7pt">&nbsp\;&nbsp\;&nbsp\;&nbsp\;&nbsp\;&nbsp\;</span><span style="color:rgb(0\, 0\, 0)\; font-family:arial\,sans-serif\; font-size:12pt">Portland&rsquo\;5 Centers for the Arts</span></p>\n			</td>\n			<td style="width:234.2pt">\n			<p><span style="color:rgb(0\, 0\, 0)\; font-family:symbol\; font-size:12pt">&middot\;</span><span style="color:rgb(0\, 0\, 0)\; font-family:times new roman\,serif\; font-size:7pt">&nbsp\;&nbsp\;&nbsp\;&nbsp\;&nbsp\;&nbsp\;</span><span style="color:rgb(0\, 0\, 0)\; font-family:arial\,sans-serif\; font-size:12pt">&nbsp\;Community Services</span></p>\n			</td>\n		</tr>\n		<tr>\n			<td style="width:233.8pt">\n			<p><span style="color:rgb(0\, 0\, 0)\; font-family:symbol\; font-size:12pt">&middot\;</span><span style="color:rgb(0\, 0\, 0)\; font-family:times new roman\,serif\; font-size:7pt">&nbsp\;&nbsp\;&nbsp\;&nbsp\;&nbsp\;&nbsp\;</span><span style="color:rgb(0\, 0\, 0)\; font-family:arial\,sans-serif\; font-size:12pt">Oregon Convention Center</span></p>\n			</td>\n			<td style="width:234.2pt">\n			<p><span style="color:rgb(0\, 0\, 0)\; font-family:symbol\; font-size:12pt">&middot\;</span><span style="color:rgb(0\, 0\, 0)\; font-family:times new roman\,serif\; font-size:7pt">&nbsp\;&nbsp\;&nbsp\;&nbsp\;&nbsp\;&nbsp\;</span><span style="color:rgb(0\, 0\, 0)\; font-family:arial\,sans-serif\; font-size:12pt">&nbsp\;County Assets</span></p>\n			</td>\n		</tr>\n		<tr>\n			<td style="width:233.8pt">\n			<p><span style="color:rgb(0\, 0\, 0)\; font-family:symbol\; font-size:12pt">&middot\;</span><span style="color:rgb(0\, 0\, 0)\; font-family:times new roman\,serif\; font-size:7pt">&nbsp\;&nbsp\;&nbsp\;&nbsp\;&nbsp\;&nbsp\;</span><span style="color:rgb(0\, 0\, 0)\; font-family:arial\,sans-serif\; font-size:12pt">Property and Environmental Services</span></p>\n			</td>\n			<td style="width:234.2pt">\n			<p><span style="color:rgb(0\, 0\, 0)\; font-family:symbol\; font-size:12pt">&middot\;</span><span style="color:rgb(0\, 0\, 0)\; font-family:times new roman\,serif\; font-size:7pt">&nbsp\;&nbsp\;&nbsp\;&nbsp\;&nbsp\;&nbsp\;</span><span style="color:rgb(0\, 0\, 0)\; font-family:arial\,sans-serif\; font-size:12pt">&nbsp\;County Human Services</span></p>\n			</td>\n		</tr>\n		<tr>\n			<td style="width:233.8pt">\n			<p><span style="color:rgb(0\, 0\, 0)\; font-family:symbol\; font-size:12pt">&middot\;</span><span style="color:rgb(0\, 0\, 0)\; font-family:times new roman\,serif\; font-size:7pt">&nbsp\;&nbsp\;&nbsp\;&nbsp\;&nbsp\;&nbsp\;</span><span style="color:rgb(0\, 0\, 0)\; font-family:arial\,sans-serif\; font-size:12pt">Planning</span></p>\n			</td>\n			<td style="width:234.2pt">\n			<p><span style="color:rgb(0\, 0\, 0)\; font-family:symbol\; font-size:12pt">&middot\;</span><span style="color:rgb(0\, 0\, 0)\; font-family:times new roman\,serif\; font-size:7pt">&nbsp\;&nbsp\;&nbsp\;&nbsp\;&nbsp\;&nbsp\;</span><span style="color:rgb(0\, 0\, 0)\; font-family:arial\,sans-serif\; font-size:12pt">&nbsp\;County Management</span></p>\n			</td>\n		</tr>\n		<tr>\n			<td style="width:233.8pt">\n			<p><span style="color:rgb(0\, 0\, 0)\; font-family:symbol\; font-size:12pt">&middot\;</span><span style="color:rgb(0\, 0\, 0)\; font-family:times new roman\,serif\; font-size:7pt">&nbsp\;&nbsp\;&nbsp\;&nbsp\;&nbsp\;&nbsp\;</span><span style="color:rgb(0\, 0\, 0)\; font-family:arial\,sans-serif\; font-size:12pt">Parks and Natural Areas</span></p>\n			</td>\n			<td style="width:234.2pt">\n			<p><span style="color:rgb(0\, 0\, 0)\; font-family:symbol\; font-size:12pt">&middot\;</span><span style="color:rgb(0\, 0\, 0)\; font-family:times new roman\,serif\; font-size:7pt">&nbsp\;&nbsp\;&nbsp\;&nbsp\;&nbsp\;&nbsp\;</span><span style="color:rgb(0\, 0\, 0)\; font-family:arial\,sans-serif\; font-size:12pt">&nbsp\;Health Department</span></p>\n			</td>\n		</tr>\n		<tr>\n			<td style="width:233.8pt">\n			<p><span style="color:rgb(0\, 0\, 0)\; font-family:symbol\; font-size:12pt">&middot\;</span><span style="color:rgb(0\, 0\, 0)\; font-family:times new roman\,serif\; font-size:7pt">&nbsp\;&nbsp\;&nbsp\;&nbsp\;&nbsp\;&nbsp\;</span><span style="color:rgb(0\, 0\, 0)\; font-family:arial\,sans-serif\; font-size:12pt">Portland Expo Center</span></p>\n\n			<p><span style="color:rgb(0\, 0\, 0)\; font-family:arial\,sans-serif\; font-size:12pt"><span style="font-family:symbol\; font-size:12pt">&middot\;</span><span style="font-family:times new roman\,serif\; font-size:7pt">&nbsp\;&nbsp\;&nbsp\;&nbsp\;&nbsp\;&nbsp\;</span><span style="font-size:12pt">Communications</span></span></p>\n\n			<p><span style="color:rgb(0\, 0\, 0)\; font-family:symbol\; font-size:12pt">&middot\;</span><span style="color:rgb(0\, 0\, 0)\; font-family:times new roman\,serif\; font-size:7pt">&nbsp\;&nbsp\;&nbsp\;&nbsp\;&nbsp\;&nbsp\;</span><span style="color:rgb(0\, 0\, 0)\; font-family:arial\,sans-serif\; font-size:12pt">Human Resources</span></p>\n\n			<p><span style="color:rgb(0\, 0\, 0)\; font-family:symbol\; font-size:12pt">&middot\;</span><span style="color:rgb(0\, 0\, 0)\; font-family:times new roman\,serif\; font-size:7pt">&nbsp\;&nbsp\;&nbsp\;&nbsp\;&nbsp\;&nbsp\;</span><span style="color:rgb(0\, 0\, 0)\; font-family:arial\,sans-serif\; font-size:12pt">Information Services</span></p>\n\n			<p><span style="color:rgb(0\, 0\, 0)\; font-family:symbol\; font-size:12pt">&middot\;</span><span style="color:rgb(0\, 0\, 0)\; font-family:times new roman\,serif\; font-size:7pt">&nbsp\;&nbsp\;&nbsp\;&nbsp\;&nbsp\;&nbsp\;<span style="font-family:arial\; font-size:medium">Finance and Regulatory Services</span></span></p>\n\n			<p>&nbsp\;</p>\n			</td>\n			<td style="width:234.2pt">\n			<p><span style="color:rgb(0\, 0\, 0)\; font-family:symbol\; font-size:12pt"><span style="font-family:conv_avenirltstd-book\,arial\,sans-serif\; font-size:medium">&middot\;</span></span><span style="color:rgb(0\, 0\, 0)\; font-family:times new roman\,serif\; font-size:7pt">&nbsp\;&nbsp\;&nbsp\;&nbsp\;&nbsp\;&nbsp\;</span><span style="color:rgb(0\, 0\, 0)\; font-family:arial\,sans-serif\; font-size:12pt">&nbsp\;Library</span></p>\n\n			<p><span style="color:rgb(0\, 0\, 0)\; font-family:arial\,sans-serif\; font-size:12pt"><span style="font-family:symbol\; font-size:12pt">&middot\;</span><span style="font-family:times new roman\,serif\; font-size:7pt">&nbsp\;&nbsp\;&nbsp\;&nbsp\;&nbsp\;&nbsp\;</span><span style="font-size:12pt">&nbsp\;Sherriff</span></span></p>\n			</td>\n		</tr>\n	</tbody>\n</table>\n\n<p>&nbsp\;</p>\n\n<p>&nbsp\;<strong><span style="color:rgb(0\, 0\, 0)\; font-family:arial\,sans-serif\; font-size:12pt">You will learn:</span></strong></p>\n\n<p><strong><span style="color:rgb(0\, 0\, 0)\; font-family:arial\,sans-serif\; font-size:12pt">&nbsp\;</span></strong></p>\n\n<p><span style="color:rgb(0\, 0\, 0)\; font-family:symbol\; font-size:12pt">&middot\;</span><span style="color:rgb(0\, 0\, 0)\; font-family:times new roman\,serif\; font-size:7pt">&nbsp\;&nbsp\;&nbsp\;&nbsp\;&nbsp\;&nbsp\;&nbsp\;&nbsp\;&nbsp\;</span><span style="color:rgb(0\, 0\, 0)\; font-family:arial\,sans-serif\; font-size:12pt">How to do business with Metro and Multnomah County</span>&nbsp\;</p>\n\n<p><span style="color:rgb(0\, 0\, 0)\; font-family:symbol\; font-size:12pt">&middot\;</span><span style="color:rgb(0\, 0\, 0)\; font-family:times new roman\,serif\; font-size:7pt">&nbsp\;&nbsp\;&nbsp\;&nbsp\;&nbsp\;&nbsp\;&nbsp\;&nbsp\;&nbsp\;</span><span style="color:rgb(0\, 0\, 0)\; font-family:arial\,sans-serif\; font-size:12pt">How to register as an Oregon State Certified Small Business&nbsp\;</span>&nbsp\;</p>\n\n<p><span style="color:rgb(0\, 0\, 0)\; font-family:symbol\; font-size:12pt">&middot\;</span><span style="color:rgb(0\, 0\, 0)\; font-family:times new roman\,serif\; font-size:7pt">&nbsp\;&nbsp\;&nbsp\;&nbsp\;&nbsp\;&nbsp\;&nbsp\;&nbsp\;&nbsp\;</span><span style="color:rgb(0\, 0\, 0)\; font-family:arial\,sans-serif\; font-size:12pt">What various departments in both agencies&nbsp\;are tasked with</span></p>\n\n<p><span style="color:rgb(0\, 0\, 0)\; font-family:symbol\; font-size:12pt">&middot\;</span><span style="color:rgb(0\, 0\, 0)\; font-family:times new roman\,serif\; font-size:7pt">&nbsp\;&nbsp\;&nbsp\;&nbsp\;&nbsp\;&nbsp\;&nbsp\;&nbsp\;&nbsp\;</span><span style="color:rgb(0\, 0\, 0)\; font-family:arial\,sans-serif\; font-size:12pt">What kinds of contracts various departments are soliciting and the kinds of contracts&nbsp\;they typically award</span>&nbsp\;</p>\n\n<p><span style="color:rgb(0\, 0\, 0)\; font-family:symbol\; font-size:12pt">&middot\;</span><span style="color:rgb(0\, 0\, 0)\; font-family:times new roman\,serif\; font-size:7pt">&nbsp\;&nbsp\;&nbsp\;&nbsp\;&nbsp\;&nbsp\;&nbsp\;&nbsp\;&nbsp\;</span><span style="color:rgb(0\, 0\, 0)\; font-family:arial\,sans-serif\; font-size:12pt">Current and upcoming opportunities</span></p>\n\n<p>&nbsp\;</p>\n
LOCATION:Oregon Convention Center\, 777 NE MLK Jr Blvd\, Portland\, OR\, 97232\, United States
UID:e.1572.15195
SEQUENCE:3
DTSTAMP:20260425T020525Z
URL:https://business.greshamchamber.org/events/details/11th-annual-small-business-open-house-metro-and-multnomah-county-15195
END:VEVENT

END:VCALENDAR
